BEGIN:VCALENDAR
VERSION:2.0
PRODID:-//Orange County Astronomers - ECPv6.15.20//NONSGML v1.0//EN
CALSCALE:GREGORIAN
METHOD:PUBLISH
X-ORIGINAL-URL:https://www.ocastronomers.org
X-WR-CALDESC:Events for Orange County Astronomers
REFRESH-INTERVAL;VALUE=DURATION:PT1H
X-Robots-Tag:noindex
X-PUBLISHED-TTL:PT1H
BEGIN:VTIMEZONE
TZID:America/Los_Angeles
BEGIN:DAYLIGHT
TZOFFSETFROM:-0800
TZOFFSETTO:-0700
TZNAME:PDT
DTSTART:20250309T100000
END:DAYLIGHT
BEGIN:STANDARD
TZOFFSETFROM:-0700
TZOFFSETTO:-0800
TZNAME:PST
DTSTART:20251102T090000
END:STANDARD
BEGIN:DAYLIGHT
TZOFFSETFROM:-0800
TZOFFSETTO:-0700
TZNAME:PDT
DTSTART:20260308T100000
END:DAYLIGHT
BEGIN:STANDARD
TZOFFSETFROM:-0700
TZOFFSETTO:-0800
TZNAME:PST
DTSTART:20261101T090000
END:STANDARD
BEGIN:DAYLIGHT
TZOFFSETFROM:-0800
TZOFFSETTO:-0700
TZNAME:PDT
DTSTART:20270314T100000
END:DAYLIGHT
BEGIN:STANDARD
TZOFFSETFROM:-0700
TZOFFSETTO:-0800
TZNAME:PST
DTSTART:20271107T090000
END:STANDARD
END:VTIMEZONE
BEGIN:VEVENT
DTSTART;TZID=America/Los_Angeles:20260226T173000
DTEND;TZID=America/Los_Angeles:20260226T200000
DTSTAMP:20260424T022538
CREATED:20260124T045538Z
LAST-MODIFIED:20260124T045538Z
UID:10001748-1772127000-1772136000@www.ocastronomers.org
SUMMARY:Private Outreach: Serrano Intermediate School Space Night\, Lake Forest
DESCRIPTION:This is an excellent opportunity for OCA members who don’t have\, or don’t want to bring\, large telescopes to an outreach event to participate. If you know something about space exploration\, then bring your expertise to this school’s Space Night on Thursday\, February 26. There may even be a former NASA astronaut on hand to add to the excitement! \nViews: 3
URL:https://www.ocastronomers.org/calendar/private-outreach-serrano-intermediate-school-space-night-lake-forest/
LOCATION:Serrano Intermediate School\, 24640 Jeronimo Road\, Lake Forest\, 92630\, United States
CATEGORIES:Outreach
ORGANIZER;CN="LaReina Tellez%2C Beverly Berekian":MAILTO:Lareina.Tellez@svusd.org
END:VEVENT
END:VCALENDAR