BEGIN:VCALENDAR
VERSION:2.0
PRODID:-//Orange County Astronomers - ECPv6.15.20//NONSGML v1.0//EN
CALSCALE:GREGORIAN
METHOD:PUBLISH
X-WR-CALNAME:Orange County Astronomers
X-ORIGINAL-URL:https://www.ocastronomers.org
X-WR-CALDESC:Events for Orange County Astronomers
REFRESH-INTERVAL;VALUE=DURATION:PT1H
X-Robots-Tag:noindex
X-PUBLISHED-TTL:PT1H
BEGIN:VTIMEZONE
TZID:America/Los_Angeles
BEGIN:DAYLIGHT
TZOFFSETFROM:-0800
TZOFFSETTO:-0700
TZNAME:PDT
DTSTART:20190310T100000
END:DAYLIGHT
BEGIN:STANDARD
TZOFFSETFROM:-0700
TZOFFSETTO:-0800
TZNAME:PST
DTSTART:20191103T090000
END:STANDARD
BEGIN:DAYLIGHT
TZOFFSETFROM:-0800
TZOFFSETTO:-0700
TZNAME:PDT
DTSTART:20200308T100000
END:DAYLIGHT
BEGIN:STANDARD
TZOFFSETFROM:-0700
TZOFFSETTO:-0800
TZNAME:PST
DTSTART:20201101T090000
END:STANDARD
BEGIN:DAYLIGHT
TZOFFSETFROM:-0800
TZOFFSETTO:-0700
TZNAME:PDT
DTSTART:20210314T100000
END:DAYLIGHT
BEGIN:STANDARD
TZOFFSETFROM:-0700
TZOFFSETTO:-0800
TZNAME:PST
DTSTART:20211107T090000
END:STANDARD
END:VTIMEZONE
BEGIN:VEVENT
DTSTART;TZID=America/Los_Angeles:20200501T193000
DTEND;TZID=America/Los_Angeles:20200501T213000
DTSTAMP:20260420T030856
CREATED:20200213T180752Z
LAST-MODIFIED:20200502T043738Z
UID:10000993-1588361400-1588368600@www.ocastronomers.org
SUMMARY:Beginner's Class - Online
DESCRIPTION:This is an online event!\nFind the link to join\, on the box above.\nInstall Zoom beforehand to be ready. \nThe 3rd session of the Beginners Astronomy Class covers different methods of finding objects in the night sky.  Special topic is learning the constellations. \nFree and open to the public as well as members of OCA. \nNote: All who attend will be invited to visit our monthly Orange County star party. \nViews: 175
URL:https://www.ocastronomers.org/calendar/beginners-class-15/
LOCATION:Online
END:VEVENT
BEGIN:VEVENT
DTSTART;TZID=America/Los_Angeles:20200502T203000
DTEND;TZID=America/Los_Angeles:20200502T220000
DTSTAMP:20260420T030856
CREATED:20200311T003439Z
LAST-MODIFIED:20200321T023200Z
UID:10001002-1588451400-1588456800@www.ocastronomers.org
SUMMARY:Private Outreach - Canceled
DESCRIPTION:Event:           O’Neill Park Girl Scout Campover\nDate:             Saturday\, 5/2/2020\nTime:             Viewing at 8:30 PM\, Sunset at 8:30 PM \nPlace:           Held at O’neill Regional Park\nAddress:       30892 Trabuco Canyon Rd.; Trabuco Canyon\, 92679\nLocation:       33°39’05″N\, 117°36’03″W \nViews: 175
URL:https://www.ocastronomers.org/calendar/private-outreach-oneill-park-girl-scout-campout/
LOCATION:O’Neill Regional Park\, 30892 Trabuco Canyon Rd\, Trabuco Canyon\, CA\, 92679\, United States
CATEGORIES:Outreach,Private
END:VEVENT
BEGIN:VEVENT
DTSTART;TZID=America/Los_Angeles:20200508T193000
DTEND;TZID=America/Los_Angeles:20200508T213000
DTSTAMP:20260420T030856
CREATED:20200428T061856Z
LAST-MODIFIED:20200509T054734Z
UID:10001006-1588966200-1588973400@www.ocastronomers.org
SUMMARY:General Meeting - May 2020 - Online
DESCRIPTION:This was an online event!\nPlease help us by submitting the feedback form. The link is on the box above.\n \nDeploying Astronomy-Inspired Techniques to Help Reduce the Damage from Wildfires\n \nOver the last decades\, we have developed image acquisition\, processing\, and analysis systems for finding distant supernovae. Such efforts resulted in the Berkeley Automated Supernova Search\, which was the first totally automated system for detecting nearby supernova. This search morphed into the Supernova Cosmology Project\, which extended our search reach to billions of light years\, and and helped lead to the discovery that the Universe’s expansion seemed to be speeding up a bit. One night while Pennypacker was discovering high redshift supernova at the Isaac Newton Telescope in the Canary Islands\, a significant fire in Oakland caused ~1.5 billion dollars of damage and the loss of 25 lives.\nFaced with the increasing danger of wildfires in California\, the speaker (CP) helped build a team (beyond UC Berkeley) and the collaborations that could use some of our ideas and skills to help decrease wildfire dangers\, through early detection. Our present evolving system includes searching cameras from the HPWREN system of cameras of UCSD\, and also cameras from the ALERT wildfire set of cameras. This system has proven capability to scan millions of images\, find small fires\, with a low false positive rate. \n\nIn addition\, we are proposing to build a geo-synchronous satellite that could detect a very small fire from geo orbit\, and alert fire manager to this fire early in it evolution. \nSuch systems hold the promise to make California a bit more resilient to the dangers of wildfires. \nDownload the published paper  -> Final_smoke_remotesensing-12-00166-v2 \n  \n \n  \nCarlton R. Pennypacker is an astrophysicist at the University of California\, Berkeley and the Lawrence Berkeley Laboratory and is the principal investigator for the Hands On Universe project.\nDr. Pennypacker has been motivated by the power and potential of student and scientist partnerships when teachers and students started discovering supernovae in the Hands On Universe project. Some of his discoveries have been featured in the news media.\nHe was awarded the Prix Jules Janssen of the French Astronomical Society in 2010.\nDr. Pennypacker has spent much of his career as a research astrophysicist\, receiving his Ph.D. from Harvard in 1978. His principal research was the studying of supernovae and the building of techniques for their automated discovery. With Rich Muller\, he co-founded the Berkeley Supernova Search\, which later became the Supernova Cosmology Project. He shared the 2007 Gruber Prize in Cosmology and the 2015 Breakthrough Prize in Fundamental Physics for the Supernova Cosmology Project’s discovery that the expansion of the universe is accelerating. \nViews: 175
URL:https://www.ocastronomers.org/calendar/general-meeting-may-2020/
LOCATION:Online
END:VEVENT
BEGIN:VEVENT
DTSTART;TZID=America/Los_Angeles:20200515T203000
DTEND;TZID=America/Los_Angeles:20200515T220000
DTSTAMP:20260420T030856
CREATED:20190623T202550Z
LAST-MODIFIED:20200514T230142Z
UID:10000892-1589574600-1589580000@www.ocastronomers.org
SUMMARY:Private Outreach - Canceled
DESCRIPTION:Event:           Gates Elementary School\nDate:             Friday\, 5/15/2020\nViewing at 8:45 PM\, Sunset at 7:45 PM \nPlace:           Gates Elementary School\nAddress:       23882 Landisview; Lake Forest\nLocation:       33°36’57″N\, 117°41’47″W \nDirections:   Take the 55 Fwy south to the I-5 south. Go south on the I-5 20 miles to the El Toro Rd exit. Turn left on Avenida de la Carlota – go 0.1 mi. Turn left on El Toro Rd – go 0.3 mi. Turn right on Rockfield Blvd – go 0.2 mi. Turn left on Silverbay Dr – go < 0.1 mi. Silverbay Dr becomes Belgreen Pl – go 0.2 mi. Turn left on Landisview Ave and go past the school. Turn right on Arrowhead St and the hop the curve at the gate. \nViews: 175
URL:https://www.ocastronomers.org/calendar/private-outreach-gates-elementary-school-3/
LOCATION:Gates Elementary School
CATEGORIES:Outreach,Private
END:VEVENT
BEGIN:VEVENT
DTSTART;TZID=America/Los_Angeles:20200516T150000
DTEND;TZID=America/Los_Angeles:20200517T080000
DTSTAMP:20260420T030856
CREATED:20200513T001206Z
LAST-MODIFIED:20200513T001354Z
UID:10001008-1589641200-1589702400@www.ocastronomers.org
SUMMARY:Private: Kuhn Telescope reservation
DESCRIPTION:Trey Mcgriff is reserving the Kuhn telescope for the night for some private viewing. \nViews: 175
URL:https://www.ocastronomers.org/calendar/private-kuhn-telescope-reservation/
LOCATION:CA
CATEGORIES:Private
END:VEVENT
BEGIN:VEVENT
DTSTART;TZID=America/Los_Angeles:20200523T160000
DTEND;TZID=America/Los_Angeles:20200523T235900
DTSTAMP:20260420T030856
CREATED:20200517T220033Z
LAST-MODIFIED:20200517T220033Z
UID:10001009-1590249600-1590278340@www.ocastronomers.org
SUMMARY:Kuhn Reservation
DESCRIPTION:The Kuhn has been reserved by Barbara and Alan for private viewing session. \nViews: 175
URL:https://www.ocastronomers.org/calendar/kuhn-reservation-3/
LOCATION:CA
CATEGORIES:Private
END:VEVENT
BEGIN:VEVENT
DTSTART;TZID=America/Los_Angeles:20200530T110000
DTEND;TZID=America/Los_Angeles:20200530T123000
DTSTAMP:20260420T030856
CREATED:20200526T084709Z
LAST-MODIFIED:20200526T084709Z
UID:10001011-1590836400-1590841800@www.ocastronomers.org
SUMMARY:Palomar Science
DESCRIPTION:An online talk open to all in which Kin Searcy\, one of the Palomar Docents\, will survey the many questions in astronomy that have been addressed for the last 70 years by professional researchers at Palomar Observatory. \nUse the link on the top box to join. \nZoom Meeting ID: 996 5232 6483 \nViews: 175
URL:https://www.ocastronomers.org/calendar/palomar-science/
LOCATION:Online
END:VEVENT
END:VCALENDAR