BEGIN:VCALENDAR
VERSION:2.0
PRODID:-//Orange County Astronomers - ECPv6.15.20//NONSGML v1.0//EN
CALSCALE:GREGORIAN
METHOD:PUBLISH
X-ORIGINAL-URL:https://www.ocastronomers.org
X-WR-CALDESC:Events for Orange County Astronomers
REFRESH-INTERVAL;VALUE=DURATION:PT1H
X-Robots-Tag:noindex
X-PUBLISHED-TTL:PT1H
BEGIN:VTIMEZONE
TZID:America/Los_Angeles
BEGIN:DAYLIGHT
TZOFFSETFROM:-0800
TZOFFSETTO:-0700
TZNAME:PDT
DTSTART:20190310T100000
END:DAYLIGHT
BEGIN:STANDARD
TZOFFSETFROM:-0700
TZOFFSETTO:-0800
TZNAME:PST
DTSTART:20191103T090000
END:STANDARD
BEGIN:DAYLIGHT
TZOFFSETFROM:-0800
TZOFFSETTO:-0700
TZNAME:PDT
DTSTART:20200308T100000
END:DAYLIGHT
BEGIN:STANDARD
TZOFFSETFROM:-0700
TZOFFSETTO:-0800
TZNAME:PST
DTSTART:20201101T090000
END:STANDARD
BEGIN:DAYLIGHT
TZOFFSETFROM:-0800
TZOFFSETTO:-0700
TZNAME:PDT
DTSTART:20210314T100000
END:DAYLIGHT
BEGIN:STANDARD
TZOFFSETFROM:-0700
TZOFFSETTO:-0800
TZNAME:PST
DTSTART:20211107T090000
END:STANDARD
END:VTIMEZONE
BEGIN:VEVENT
DTSTART;TZID=America/Los_Angeles:20200205T183000
DTEND;TZID=America/Los_Angeles:20200205T210000
DTSTAMP:20260420T070947
CREATED:20190609T182026Z
LAST-MODIFIED:20200604T184022Z
UID:10000880-1580927400-1580936400@www.ocastronomers.org
SUMMARY:Astroimagers (AISIG) Meeting
DESCRIPTION:Tonight is the meeting of the AstroImagers Special Interest Group (AISIG). The meeting will start at 6:30pm and ends at 9pm at the Urban Workshop. This meeting is open to all members of the OCA. We have members of all skill levels and this is the place to ask questions\, learn and meet other members interested in imaging the sky. All skill levels are welcome\, experience is not necessary.  Please arrive promptly as the meetings do start at 6:30pm\, the venue closes at 9pm so we must leave by then. \n  \nViews: 175
URL:https://www.ocastronomers.org/calendar/astroimagers-meeting-3/2020-02-05/
LOCATION:The Urban Workshop\, 365 Clinton St A\, Costa Mesa\, CA\, 92626\, United States
CATEGORIES:SIG Meetings
ATTACH;FMTTYPE=image/png:https://www.ocastronomers.org/wp-content/uploads/2018/10/ocastro-logo-sm.png
END:VEVENT
BEGIN:VEVENT
DTSTART;TZID=America/Los_Angeles:20200207T193000
DTEND;TZID=America/Los_Angeles:20200207T213000
DTSTAMP:20260420T070947
CREATED:20190808T203941Z
LAST-MODIFIED:20190810T064319Z
UID:10000942-1581103800-1581111000@www.ocastronomers.org
SUMMARY:Beginner's Class
DESCRIPTION:The 6th session of the Beginners Astronomy Class covers the basics of astrophotography\, covering different types of imaging\, how different types of cameras are used for this kind of photography\, and other equipment and considerations for taking a good picture.\nThis session is taught by Kyle Coker\, who is active in the club’s AstroImaging special interest group.\nThe Beginners Astronomy Class is held at the Heritage Museum of Orange County in Santa Ana. For details\, please visit /special-interest-groups/beginners-class/ and download the sample information PDF package. \nFree and open to the public as well as members of OCA.\nNote: All who attend will be invited to visit our monthly Orange County star party. \nViews: 175
URL:https://www.ocastronomers.org/calendar/beginners-class-13/
LOCATION:Orange Coast College\, Building 40\, Astronomy House\, Merrimac Way\, Costa Mesa\, CA\, 92626\, United States
END:VEVENT
BEGIN:VEVENT
DTSTART;TZID=America/Los_Angeles:20200211T190000
DTEND;TZID=America/Los_Angeles:20200211T210000
DTSTAMP:20260420T070947
CREATED:20190809T002018Z
LAST-MODIFIED:20190809T002018Z
UID:10000943-1581447600-1581454800@www.ocastronomers.org
SUMMARY:Private Outreach - Sycamore Jr. High School
DESCRIPTION:Event:           Sycamore Jr. High School\nDate:             Tuesday\, 2/11/2020\nViewing at 7:00 PM\, Sunset at 5:32 PM \nPlace:           Sycamore Jr. High School\nAddress:       1801 E Sycamore St; Anaheim\nLocation:       33°50’43″N\, 117°53’39″W \nDirections:    From I-5\, take CA-57 N towards Pomona\, 3.5 mi. Take Exit 4\, for Lincoln Ave. Make a Left onto Lincoln Ave. Turn Right onto N Evergreen\, 0.3 mi. Turn Right onto E Redwood Ave. Turn Left onto N Almond Dr. Turn Left onto E Sycamore St. The school will be on your right. \nViews: 175
URL:https://www.ocastronomers.org/calendar/private-outreach-sycamore-jr-high-school/
LOCATION:Sycamore Jr. High School\, 1801 E Sycamore St\, Anaheim\, CA\, 92805\, United States
CATEGORIES:Outreach
END:VEVENT
BEGIN:VEVENT
DTSTART;TZID=America/Los_Angeles:20200212T190000
DTEND;TZID=America/Los_Angeles:20200212T210000
DTSTAMP:20260420T070947
CREATED:20190904T064948Z
LAST-MODIFIED:20200131T035205Z
UID:10000960-1581534000-1581541200@www.ocastronomers.org
SUMMARY:Private Outreach - To be Rescheduled
DESCRIPTION:Event:           Cadence Park Elementary\nDate:             Wednesday\, 2/12/2020\nTime:             Viewing at 7:00 PM\, Sunset at 5:32 PM \nPlace:           Cadence Park Elementary\nAddress:       750 Benchmark; Irvine\, 92618\nLocation:       33°40’52″N\, 117°43’19″W \nDirections:    Take I-5 South towards San Diego. Take Exit 96A for Sand Canyon Ave. Use the left 3 lanes to turn left onto Sand Canyon Ave. 0.8 mi. Turn right onto Great Park Blvd\, 0.9 mi. At the traffic circle\, take the 3rd exit onto Bosque\, 0.3 mi. At the traffic circle\, take the 1st exit onto Cadence\, 0.4 mi. Turn left onto Benchmark. School will be on your left. \nViews: 175
URL:https://www.ocastronomers.org/calendar/private-outreach-cadence-park-elementary/
LOCATION:Cadence Park Elementary\, 750 Benchmark\, Irvine\, CA\, 92618\, United States
CATEGORIES:Outreach
END:VEVENT
BEGIN:VEVENT
DTSTART;TZID=America/Los_Angeles:20200213T190000
DTEND;TZID=America/Los_Angeles:20200213T210000
DTSTAMP:20260420T070947
CREATED:20190623T204133Z
LAST-MODIFIED:20200116T205610Z
UID:10000897-1581620400-1581627600@www.ocastronomers.org
SUMMARY:Private Outreach - To Be Rescheduled
DESCRIPTION:Event:           Anaheim Hills Elementary\nDate:             Thursday\, 2/13/2020\nViewing at 7:00 PM\, Sunset at 5:33 PM \nPlace:           Anaheim Hills Elementary\nAddress:       6450 East Serrano Ave; Anaheim\nLocation:       33°49’47″N\, 117°45’40″W \nDirections:   Take CA-55 N towards the 91. Take exit 15 for Katella Ave. Make a Right onto Katella Ave and continue onto Villa Park Rd\, 1.3 mi. Villa Park Rd will turn into E Santiago Rd. Turn left onto Cannon St\, 0.6mi. Make a Right onto Serrano Ave\, 2.2 mi. School will be on your Right. Gate is at the end of the Left parking lot. \nViews: 175
URL:https://www.ocastronomers.org/calendar/private-outreach-anaheim-hills-elementary/
LOCATION:Anaheim Hills Elementary\, 6450 Serrano Ave\, Anaheim\, CA\, 92807\, United States
CATEGORIES:Outreach,Private
END:VEVENT
BEGIN:VEVENT
DTSTART;TZID=America/Los_Angeles:20200214T193000
DTEND;TZID=America/Los_Angeles:20200214T213000
DTSTAMP:20260420T070947
CREATED:20191224T140421Z
LAST-MODIFIED:20191224T140421Z
UID:10000979-1581708600-1581715800@www.ocastronomers.org
SUMMARY:General Meeting - February 2020
DESCRIPTION:From Apples to Orange Juice: Can We Infer a Galaxy’s Biography from Just One Photograph? \n \nDespite having data stretching back over 10 billion years and computer simulations that make realistic-looking galaxies starting from just gas and dark matter\, humans do not have a theory that predicts why a galaxy looks the way it does based on what it used to look like. We ask this from the biological theory of evolution\, but\, because astronomers cannot experiment on our subjects\, we face challenges biologists (and sociologists) do not. I will talk about the two main routes we are taking to overcome this handicap: (1) assuming our data nevertheless do look like that of biology or sociology and proceeding accordingly; (2) attempting to infer the past histories of individual objects through the single snapshots we actually have of them. The latter is the correct thing to do\, but it is unclear if it is possible\, which would leave astronomers in the unique position of having data…but nothing to do with it! This epistemological situation\, and the opportunity to explore questions like “Is galaxy evolution knowable?” is fascinating to me\, and I think it cannot but lead to important new insights about our place in the universe. \nLouis Abramson \n \nLouis Abramson is a Carnegie-Princeton Fellow at the Carnegie Observatories in Pasadena. He works to tease-out the growth histories of individual galaxies from information encoded in their colors. He hopes that such galaxy biographies will yield insights into what causes some galaxies to look like the Milky way while others do not. Outside of academia\, Louis is an elected official in the City of Los Angeles and chairs the Homelessness and Outreach Committees of the Central Hollywood Neighborhood Council. \nViews: 175
URL:https://www.ocastronomers.org/calendar/general-meeting-february-2020/
LOCATION:Irvine Lecture Hall of the Chapman University\, 336 N Center St\, Orange\, CA\, 92866\, United States
CATEGORIES:General Meetings
END:VEVENT
BEGIN:VEVENT
DTSTART;TZID=America/Los_Angeles:20200215T080000
DTEND;TZID=America/Los_Angeles:20200215T180000
DTSTAMP:20260420T070947
CREATED:20200129T224139Z
LAST-MODIFIED:20200129T224346Z
UID:10000984-1581753600-1581789600@www.ocastronomers.org
SUMMARY:Loaner Telescope Returns Due
DESCRIPTION:If your lease is expired\, this is the day to return OCA Loaner Scope.  For details on where to return the scope\, email scopes@ssccorp.com for details on the location and process. \nIf this day is not convenient\, you can bring your scope to the club’s monthly meeting. Be sure to email the Scope Loan Director at scopes@ssccorp.com to be sure that he/she will be there to accept your return prior to bringing back you scope. \nViews: 175
URL:https://www.ocastronomers.org/calendar/loaner-telescope-returns-due/
LOCATION:CA
END:VEVENT
BEGIN:VEVENT
DTSTART;TZID=America/Los_Angeles:20200216T080000
DTEND;TZID=America/Los_Angeles:20200216T170000
DTSTAMP:20260420T070947
CREATED:20200129T225007Z
LAST-MODIFIED:20200129T225007Z
UID:10000985-1581840000-1581872400@www.ocastronomers.org
SUMMARY:Loaner Scope Pickup Day
DESCRIPTION:If you have reserved an OCA Loaner Scope\, this is the date to pick it up. \nYou can reserve a scope by consulting the listings on this website\, or email scope@ssccorp.com for a complete list of currently available telescopes. \nIf you find a scope you would like to borrow\, email scopes@ssccorp.com with the scope inventory number and you membership and contact info. We will confirm your reservation and provide you with information about where to pick up your scope. \n  \n  \nViews: 175
URL:https://www.ocastronomers.org/calendar/loaner-scope-pickup-day/
LOCATION:CA
END:VEVENT
BEGIN:VEVENT
DTSTART;TZID=America/Los_Angeles:20200218T190000
DTEND;TZID=America/Los_Angeles:20200218T210000
DTSTAMP:20260420T070947
CREATED:20190131T180055Z
LAST-MODIFIED:20200127T230253Z
UID:10000860-1582052400-1582059600@www.ocastronomers.org
SUMMARY:Private Outreach - Canceled
DESCRIPTION:Event:           Cub Scout Pack 727\nDate:             Tuesday\, 2/18/2020\nViewing at 7:00 PM\, Sunset at 5:37 PM \nPlace:           Cub Scout Pack 727\nAddress:       21001 Rancho Trabuco; Rancho Santa Margarita\nLocation:       33°39’27″N\, 117°36’52″W \nDirections:    Take CA-55 South towards Coasta Mesa\, 2.4 mi. Use Right 2 lanes to take Exit 11A for I-5 S towards San Diego\, 1.0 mi. Merge onto I-5 South\, 12.0 mi. Use Right 2 lanes to take exit 90 for Alicia Parkway. Use the Left 2 lanes to turn Left onto Alicia Pkwy.\, 1.0 mi. Turn Right onto Olympaid Rd\, 0.4 mi. Turn Left onto Melinda Rd.\, 2.3 mi. Turn Right onto Rancho Trabuco. School will be on your Left. \nViews: 175
URL:https://www.ocastronomers.org/calendar/private-outreach-cub-scout-pack-727/
LOCATION:Melinda Heights Elementary School\, 21001 Rancho Trabuco\, Rancho Santa Margarita\, CA\, 92688\, United States
CATEGORIES:Outreach
END:VEVENT
BEGIN:VEVENT
DTSTART;TZID=America/Los_Angeles:20200220T190000
DTEND;TZID=America/Los_Angeles:20200220T210000
DTSTAMP:20260420T070947
CREATED:20190816T035817Z
LAST-MODIFIED:20190816T035825Z
UID:10000947-1582225200-1582232400@www.ocastronomers.org
SUMMARY:Private Outreach - Russell Elementary
DESCRIPTION:Event:           Russell Elementary School\nDate:             Thursday\, 2/20/2020\nTime:             Viewing at 7:00 PM\, Sunset at 5:40 PM \nPlace:           Russell Elementary School\nAddress:      600 S Jackson; Santa Ana\, 92704\nLocation:     33°44’21″N\, 117°55’00″W \nDirections:    Take CA-55 to CA-22 W.  Take exit 13 to merge onto CA-22 W; go 5.4 mi.  Take exit 12 for Harbor Blvd; go 0.3 mi.  Turn left onto Harbor Blvd; go 2.0 mi.  Turn left onto W Camille St; go 0.3 mi.  Take the 1st right onto S Jackson St; go 0.1 mi.  School is on the right . \nViews: 175
URL:https://www.ocastronomers.org/calendar/private-outreach-russell-elementary/
LOCATION:Russell Elementary School\, 600 S Jackson\, Santa Ana\, CA\, 92704\, United States
CATEGORIES:Outreach
END:VEVENT
BEGIN:VEVENT
DTSTART;TZID=America/Los_Angeles:20200221T190000
DTEND;TZID=America/Los_Angeles:20200221T210000
DTSTAMP:20260420T070947
CREATED:20190129T181031Z
LAST-MODIFIED:20200220T060951Z
UID:10000859-1582311600-1582318800@www.ocastronomers.org
SUMMARY:Private Outreach - Canceled
DESCRIPTION:Event:           Brywood Elementary School\nDate:             Friday\, 2/21/2020\nViewing at 7:00 PM\, Sunset at 5:41 PM \nPlace:           Brywood Elementary School\nAddress:       1 Liberty; Irvine\nLocation:       33°42’43″N\, 117°46’25″W \nDirections:    Take CA-55 South to I-5 South.  Take exit 11A to merge onto I-5 South; go 4.0 mi.  Take exit 99 for Culver Dr; go 0.4 mi.  Turn left at Culver Dr; go 0.6 mi.  Turn right at Bryan Ave; go 0.4 mi.  Make a Left onto Westwood using the 3rd left (first left past Silkwood Park (on left side)) to make a U-turn\, take the first right and that leads you directly into the school parking lot. \nViews: 175
URL:https://www.ocastronomers.org/calendar/private-outreach-brywood-elementary-school-3/
LOCATION:Brywood Elementary School\, 1 Westwood\, Irvine\, CA\, 92620\, United States
CATEGORIES:Outreach
END:VEVENT
BEGIN:VEVENT
DTSTART;VALUE=DATE:20200222
DTEND;VALUE=DATE:20200223
DTSTAMP:20260420T070947
CREATED:20200211T140849Z
LAST-MODIFIED:20200211T140849Z
UID:10000986-1582329600-1582415999@www.ocastronomers.org
SUMMARY:Private: Anza Star Party
DESCRIPTION:Private star party at the Anza Site. Open to members and their guests only. \nViews: 175
URL:https://www.ocastronomers.org/calendar/private-anza-star-party-2/
LOCATION:CA
CATEGORIES:Star Parties
END:VEVENT
BEGIN:VEVENT
DTSTART;TZID=America/Los_Angeles:20200225T190000
DTEND;TZID=America/Los_Angeles:20200225T210000
DTSTAMP:20260420T070947
CREATED:20190623T203325Z
LAST-MODIFIED:20190623T203325Z
UID:10000896-1582657200-1582664400@www.ocastronomers.org
SUMMARY:Private Outreach - Buena Park Junior High
DESCRIPTION:Event:           Buena Park Junior High\nDate:             Tuesday\, 2/25/2020\nViewing at 7:00 PM\, Sunset at 5:45 PM \nPlace:           Buena Park Junior High\nAddress:       6931 Orangethorpe Ave; Buena Park\nLocation:       33°51’41″N\, 118°00’46″W \nDirections:   Take CA-55 or CA-57 to CA-91. Take CA-91 west toward LA. Take the Knott Ave exit- Turn right onto Knott Ave. go 0.1 mi. Turn left onto Orangethorpe Ave. go <0.1 mi. \nViews: 175
URL:https://www.ocastronomers.org/calendar/private-outreach-buena-park-junior-high-3/
LOCATION:Buena Park Junior High\, 6931 Orangethorpe Ave\, Buena Park\, CA\, 90620\, United States
CATEGORIES:Outreach,Private
END:VEVENT
BEGIN:VEVENT
DTSTART;TZID=America/Los_Angeles:20200228T190000
DTEND;TZID=America/Los_Angeles:20200228T210000
DTSTAMP:20260420T070947
CREATED:20190623T203211Z
LAST-MODIFIED:20200228T210255Z
UID:10000895-1582916400-1582923600@www.ocastronomers.org
SUMMARY:Private Outreach - Canceled
DESCRIPTION:Event:           Beatty Elementary School\nDate:             Friday\, 2/28/2020\nViewing at 7:00 PM\, Sunset at 5:47 PM \nPlace:           Beatty Elementary School\nAddress:       8201 Country Club; Buena Park\nLocation:       33°53’05″N\, 117°59’28″W \nDirections:   Take CA-91 west to the 5 Fwy. Take I-5 Fwy west to Beach Blvd. Turn right on Beach Blvd to Malvern. Turn right on Malvern. At the first signal\, Country Club Drive\, turn left. The school is about 1/4 mile up Country Club on your left. Enter through the gate next to the blue colt mural and drive under the walkway coverings to the blacktop. \nViews: 175
URL:https://www.ocastronomers.org/calendar/private-outreach-beatty-elementary/
LOCATION:Beatty Elementary School\, 8201 Country Club Dr\, Buena Park\, CA\, 90621\, United States
CATEGORIES:Outreach,Private
END:VEVENT
END:VCALENDAR