BEGIN:VCALENDAR
VERSION:2.0
PRODID:-//Orange County Astronomers - ECPv6.15.20//NONSGML v1.0//EN
CALSCALE:GREGORIAN
METHOD:PUBLISH
X-ORIGINAL-URL:https://www.ocastronomers.org
X-WR-CALDESC:Events for Orange County Astronomers
REFRESH-INTERVAL;VALUE=DURATION:PT1H
X-Robots-Tag:noindex
X-PUBLISHED-TTL:PT1H
BEGIN:VTIMEZONE
TZID:America/Los_Angeles
BEGIN:DAYLIGHT
TZOFFSETFROM:-0800
TZOFFSETTO:-0700
TZNAME:PDT
DTSTART:20180311T100000
END:DAYLIGHT
BEGIN:STANDARD
TZOFFSETFROM:-0700
TZOFFSETTO:-0800
TZNAME:PST
DTSTART:20181104T090000
END:STANDARD
BEGIN:DAYLIGHT
TZOFFSETFROM:-0800
TZOFFSETTO:-0700
TZNAME:PDT
DTSTART:20190310T100000
END:DAYLIGHT
BEGIN:STANDARD
TZOFFSETFROM:-0700
TZOFFSETTO:-0800
TZNAME:PST
DTSTART:20191103T090000
END:STANDARD
BEGIN:DAYLIGHT
TZOFFSETFROM:-0800
TZOFFSETTO:-0700
TZNAME:PDT
DTSTART:20200308T100000
END:DAYLIGHT
BEGIN:STANDARD
TZOFFSETFROM:-0700
TZOFFSETTO:-0800
TZNAME:PST
DTSTART:20201101T090000
END:STANDARD
END:VTIMEZONE
BEGIN:VEVENT
DTSTART;TZID=America/Los_Angeles:20190802T193000
DTEND;TZID=America/Los_Angeles:20190802T213000
DTSTAMP:20260420T163041
CREATED:20190110T084515Z
LAST-MODIFIED:20190111T043118Z
UID:10000725-1564774200-1564781400@www.ocastronomers.org
SUMMARY:Beginner’s Class
DESCRIPTION::30:00 AM – 9:30:00 AM The 6th session of the Beginners Astronomy Class covers covers the basics of astrophotography\, covering different types of imaging\, how different types of cameras are used for this kind of photography\, and other equipment and considerations for taking a good picture. This session is taught by Kyle Coker\, who is active in the club�s AstroImaging section. The Beginners Astronomy Class is held at the Heritage Museum of Orange County in Santa Ana. For details\, please see the webpage on the Beginners Class\, under “About OCA” and “Special Interest Groups”. Download the sample information package. Free and open to the public as well as members of OCA. Note: All who attend are invited to one of our monthly OC star parties as our guest. More \nViews: 175
URL:https://www.ocastronomers.org/calendar/beginners-class-5/
LOCATION:CA
CATEGORIES:Outreach
END:VEVENT
BEGIN:VEVENT
DTSTART;TZID=America/Los_Angeles:20190803T180000
DTEND;TZID=America/Los_Angeles:20190803T180000
DTSTAMP:20260420T163041
CREATED:20190110T084644Z
LAST-MODIFIED:20190110T084644Z
UID:10000726-1564855200-1564855200@www.ocastronomers.org
SUMMARY:Private star party – Anza
DESCRIPTION:Views: 175
URL:https://www.ocastronomers.org/calendar/private-star-party-anza-8/
LOCATION:CA
CATEGORIES:Star Parties
END:VEVENT
BEGIN:VEVENT
DTSTART;TZID=America/Los_Angeles:20190803T180000
DTEND;TZID=America/Los_Angeles:20190803T180000
DTSTAMP:20260420T163041
CREATED:20190110T084931Z
LAST-MODIFIED:20190110T084931Z
UID:10000727-1564855200-1564855200@www.ocastronomers.org
SUMMARY:Private Star Party - Orange County
DESCRIPTION:Monthly Star Party in the OC Parks Open space (Location may vary)\, open to OCA Members and their guests only. NOTE: The actual time the gate opens may be different from what is shown above. The Orange County star parties generally begin with the opening of the gate about 30 minutes before sundown and close at midnight. Please contact Steve Mizera\, the Star Party Coordinator\, at mizeras@cox.net for details\, and to be put on the OC Star Party mailing list. \nViews: 175
URL:https://www.ocastronomers.org/calendar/private-star-party-orange-county-5/
LOCATION:CA
CATEGORIES:Star Parties
END:VEVENT
BEGIN:VEVENT
DTSTART;TZID=America/Los_Angeles:20190807T000000
DTEND;TZID=America/Los_Angeles:20190807T000000
DTSTAMP:20260420T163041
CREATED:20190110T091659Z
LAST-MODIFIED:20190110T091729Z
UID:10000733-1565136000-1565136000@www.ocastronomers.org
SUMMARY:1st Qtr Moon
DESCRIPTION:Views: 175
URL:https://www.ocastronomers.org/calendar/1st-qtr-moon-8/
LOCATION:CA
CATEGORIES:Moon
ATTACH;FMTTYPE=image/png:https://www.ocastronomers.org/wp-content/uploads/2019/01/1st-Qtr-Moon-4.png
END:VEVENT
BEGIN:VEVENT
DTSTART;TZID=America/Los_Angeles:20190807T183000
DTEND;TZID=America/Los_Angeles:20190807T210000
DTSTAMP:20260420T163041
CREATED:20190609T182026Z
LAST-MODIFIED:20190708T181437Z
UID:10000874-1565202600-1565211600@www.ocastronomers.org
SUMMARY:Astroimagers (AISIG) Meeting
DESCRIPTION:  \nTonight is the meeting of the AstroImagers Special Interest Group (AISIG). The meeting will start at 6:30pm and ends at 9pm at the Urban Workshop. This meeting is open to all members of the OCA. We have members of all skill levels and this is the place to ask questions\, learn and meet other members interested in imaging the sky. All skill levels are welcome\, experience is not necessary.  Please arrive promptly as the meetings do start at 6:30pm\, the venue closes at 9pm so we must leave by then. \n  \nViews: 175
URL:https://www.ocastronomers.org/calendar/astroimagers-aisig-meeting-2019-08-07/
LOCATION:The Urban Workshop\, 365 Clinton St A\, Costa Mesa\, CA\, 92626\, United States
CATEGORIES:SIG Meetings
ATTACH;FMTTYPE=image/png:https://www.ocastronomers.org/wp-content/uploads/2018/10/ocastro-logo-sm.png
END:VEVENT
BEGIN:VEVENT
DTSTART;TZID=America/Los_Angeles:20190809T193000
DTEND;TZID=America/Los_Angeles:20190809T213000
DTSTAMP:20260420T163041
CREATED:20190718T072053Z
LAST-MODIFIED:20200604T160603Z
UID:10000936-1565379000-1565386200@www.ocastronomers.org
SUMMARY:General Meeting - August 2019
DESCRIPTION:Investigating the Mysteries of Exploding Stars \nHubble Space Telescope image of supernova 1994D in galaxy NGC 4526. \nSupernovae are cosmic explosions where a single star can suddenly become as bright as a billion stars combined. Even though supernovae are crucial to the Universe in many ways\, such as impacting the evolution of galaxies and producing the elements necessary for life\, many mysteries remain. How do stars die? Which stars are exploding? What powers these fantastic events? Dr. Piro will describe how astrophysicists are combining clues from observations with theoretical modeling to finally address these puzzles. And just like with any good mystery\, often the answers lead to even more questions. \n \nDr. Anthony Piro is a Staff Member at the Carnegie Observatories in Pasadena. His research is focused on theoretical astrophysics with a broad interest in topics involving compact objects\, astrophysical explosions\, accretion flows\, and stellar dynamics. Dr. Piro was also the Carnegie leader of the team of astronomers first to discover the radioactive glow of a neutron star merger. He has won a number of awards for this work\, including being named a Scialog Fellow by the Research Corporation for Science Advancement\, and his discoveries have been featured in the popular press\, such as the New York Times\, CNN\, and National Geographic. \nViews: 175
URL:https://www.ocastronomers.org/calendar/general-meeting-august-2019/
LOCATION:CA
CATEGORIES:General Meetings
END:VEVENT
BEGIN:VEVENT
DTSTART;TZID=America/Los_Angeles:20190810T203000
DTEND;TZID=America/Los_Angeles:20190810T220000
DTSTAMP:20260420T163041
CREATED:20190623T211429Z
LAST-MODIFIED:20190810T232936Z
UID:10000915-1565469000-1565474400@www.ocastronomers.org
SUMMARY:Private Outreach - Cancelled
DESCRIPTION:Event:           San Mateo Campground\nDate:             Saturday\, 8/10/2019\nViewing at 8:45 PM\, Sunset at 7:45 PM \nPlace:           San Mateo Campground\nAddress:       830 Cristianitos Rd; San Clemente\nLocation:       33°24’18″N\, 117°35’04″W \nDirections:   Take CA-55 south to the I-5. Take the I-5 South toward San Diego – go 30.8 mi. Take the Cristianitos Rd exit; go 0.2 mi. Turn left on Cristianitos Rd – go 0.9 mi. Turn right after entering park and go a half mile to the parking lot on right (just below the amphitheater). \nViews: 175
URL:https://www.ocastronomers.org/calendar/private-outreach-san-mateo-campground/
LOCATION:San Mateo Campground\, 830 Cristianitos Rd\, San Clemente\, CA\, 92672\, United States
CATEGORIES:Outreach,Private
END:VEVENT
BEGIN:VEVENT
DTSTART;TZID=America/Los_Angeles:20190815T000000
DTEND;TZID=America/Los_Angeles:20190815T000000
DTSTAMP:20260420T163041
CREATED:20190110T092044Z
LAST-MODIFIED:20190110T092044Z
UID:10000736-1565827200-1565827200@www.ocastronomers.org
SUMMARY:Full Moon
DESCRIPTION:Views: 175
URL:https://www.ocastronomers.org/calendar/full-moon-7/
LOCATION:CA
CATEGORIES:Moon
ATTACH;FMTTYPE=image/png:https://www.ocastronomers.org/wp-content/uploads/2019/01/Full-Moon-6.png
END:VEVENT
BEGIN:VEVENT
DTSTART;TZID=America/Los_Angeles:20190816T193000
DTEND;TZID=America/Los_Angeles:20190816T213000
DTSTAMP:20260420T163041
CREATED:20190609T193229Z
LAST-MODIFIED:20190609T193229Z
UID:10000886-1565983800-1565991000@www.ocastronomers.org
SUMMARY:Astrophysics SIG Meeting
DESCRIPTION:  \n  \nOur Astrophysics group meets to discuss and learn about how the universe works as a seminar group that bases its discussions on topics of interest introduced by the participants and the videos that are shown during the meetings on different aspects of astrophysics. The meetings are held in the classroom at the Heritage Museum of Orange County\, located at 3101 W. Harvard Ave.\, Santa Ana. The museum is located about a half-block west of Fairview; Harvard is about two miles north of the 405 Fwy\, between Warner and Edinger. The driveway is at the western end of the museum property; follow it around to the back of the property to the parking area; the classroom faces the parking area. All members are welcome – come join us for a stimulating evening! \n  \nViews: 175
URL:https://www.ocastronomers.org/calendar/astrophysics-sig-meeting/2019-08-16/
LOCATION:Orange Coast College\, Building 40\, Astronomy House\, Merrimac Way\, Costa Mesa\, CA\, 92626\, United States
END:VEVENT
BEGIN:VEVENT
DTSTART;TZID=America/Los_Angeles:20190817T204500
DTEND;TZID=America/Los_Angeles:20190817T224500
DTSTAMP:20260420T163041
CREATED:20190215T210354Z
LAST-MODIFIED:20190215T210354Z
UID:10000868-1566074700-1566081900@www.ocastronomers.org
SUMMARY:Private Outreach - Mission Viejo Campout Under the Stars
DESCRIPTION:Event:           Mission Viejo Campout Under the Stars\nDate:             Saturday\, 8/17/2019\nViewing at 8:45 PM\, Sunset at 7:38 PM \nPlace:           Mission Viejo Campout Under the Stars\nAddress:       26931 El Retiro; Mission Viejo\nLocation:       33°34’19″N\, 117°39’21″W \nDirections:   Take I-5 South towards San Diego. Take Exit 88 for Oso Pkwy\, use the 2 Left lanes to turn Left onto Oso Pkwy\, 0.8 mi. Turn Right onto Margureite Pkwy\, 1.1 mi. Turn Left onto Felipe Rd and then Right onto El Retiro. The Cordova Park is on your right. \nViews: 175
URL:https://www.ocastronomers.org/calendar/private-outreach-mission-viejo-campout-under-the-stars/
LOCATION:Cordova Park\, 26931 El Retiro\, Mission Viejo\, CA\, 92692\, United States
CATEGORIES:Outreach
END:VEVENT
BEGIN:VEVENT
DTSTART;TZID=America/Los_Angeles:20190821T190000
DTEND;TZID=America/Los_Angeles:20190821T210000
DTSTAMP:20260420T163041
CREATED:20190822T034205Z
LAST-MODIFIED:20190822T034205Z
UID:10000951-1566414000-1566421200@www.ocastronomers.org
SUMMARY:Private Outreach - OC Parks Astronomy Night
DESCRIPTION:Event:           OC Parks Astronomy Night\nDate:             Saturday\, 10/19/2019\nTime:             Viewing at 7:15 PM\, Sunset at 6:15 PM \nPlace:           Held at O’Neill Regional Park\nAddress:       30892 Trabuco Canyon Rd.; Trabuco Canyon\, 92679\nLocation:       33°39’05″N\, 117°36’03″W \nDirections:    Head to I-5 South towards San Diego. Take exit 91 towards El Toro Rd via Avenida De La Carlota. Use the Left three lanes to turn Left onto El Toro Rd. Travel 7.5 mi. and turn Right onto Live Oak Canyon Rd. Live Oak becomes Trabuco Canyon Rd. Looks for signs for O’Neill Regional Park on the Right. \nViews: 175
URL:https://www.ocastronomers.org/calendar/private-outreach-oc-parks-astronomy-night/
LOCATION:O’Neill Regional Park\, 30892 Trabuco Canyon Rd\, Trabuco Canyon\, CA\, 92679\, United States
CATEGORIES:Outreach
END:VEVENT
BEGIN:VEVENT
DTSTART;TZID=America/Los_Angeles:20190823T000000
DTEND;TZID=America/Los_Angeles:20190823T000000
DTSTAMP:20260420T163041
CREATED:20190110T092409Z
LAST-MODIFIED:20190110T092409Z
UID:10000738-1566518400-1566518400@www.ocastronomers.org
SUMMARY:Last Qtr Moon
DESCRIPTION:Views: 175
URL:https://www.ocastronomers.org/calendar/last-qtr-moon-8/
LOCATION:CA
CATEGORIES:Moon
ATTACH;FMTTYPE=image/png:https://www.ocastronomers.org/wp-content/uploads/2019/01/Last-Qtr-Moon-6.png
END:VEVENT
BEGIN:VEVENT
DTSTART;TZID=America/Los_Angeles:20190823T203000
DTEND;TZID=America/Los_Angeles:20190823T223000
DTSTAMP:20260420T163041
CREATED:20190623T211331Z
LAST-MODIFIED:20190623T211331Z
UID:10000914-1566592200-1566599400@www.ocastronomers.org
SUMMARY:Public Outreach - OC Parks Upper Newport Bay
DESCRIPTION:Event:           OC Parks Upper Newport Bay\nDate:             Friday\, 8/23/2019\nViewing at 8:30 PM\, Sunset at 7:32 PM \nPlace:           OC Parks Upper Newport Bay\nAddress:       2301 University Drive; Newport Beach\nLocation:       33°39’16″N\, 117°53’11″W \nDirections:   Take CA-55 South towards Costa Mesa. Use the Right 2 lanes to take Exit 5A towards SR-73 South to San Diego\, 0.9 mi. Merge onto SR-73 S and take Right lane to take Exit 16 towards Irvine Ave/ Campus Dr.\, 0.2 mi. Use Right lane to merge onto SE Bristol St.\, 0.1 mi. Use Right 2 lanes\, turn Right onto Irvine Ave.\, 0.9 mi. Turn Left onto University Dr. Park will be on your immediate right\, take 2nd driveway to turn into employee parking lot. (Do not use public parking lot) \nViews: 175
URL:https://www.ocastronomers.org/calendar/public-outreach-oc-parks-upper-newport-bay-3/
LOCATION:OC Parks Upper Newport Bay\, 2301 University Drive\, Newport Beach\, CA\, 92660\, United States
CATEGORIES:Outreach
END:VEVENT
BEGIN:VEVENT
DTSTART;TZID=America/Los_Angeles:20190824T203000
DTEND;TZID=America/Los_Angeles:20190824T220000
DTSTAMP:20260420T163041
CREATED:20190623T210703Z
LAST-MODIFIED:20190623T210703Z
UID:10000913-1566678600-1566684000@www.ocastronomers.org
SUMMARY:Public Outreach - Nix Nature Center
DESCRIPTION:Event:           Nix Nature Center\nDate:             Saturday\, 8/24/2019\nViewing at 8:30 PM\, Sunset at 7:30 PM \nPlace:           Nix Nature Center\nAddress:       18751 Laguna Canyon Rd; Laguna Beach\nLocation:       33°36’30″N\, 117°45’48″W \nDirections:    Take CA-55 S to I-5 South.  Take exit 11A to merge onto I-5 South; go 7.7 mi.  Take exit 95 for State Hwy 133 South.  Merge onto CA-133 S; go 5.4 mi.  Nix Nature Center is on the right (west side of the street). \nViews: 175
URL:https://www.ocastronomers.org/calendar/public-outreach-nix-nature-center/
LOCATION:Nix Nature Center\, 18751 Laguna Canyon Rd\, Laguna Beach\, CA\, 92651\, United States
CATEGORIES:Outreach
END:VEVENT
BEGIN:VEVENT
DTSTART;TZID=America/Los_Angeles:20190830T000000
DTEND;TZID=America/Los_Angeles:20190830T000000
DTSTAMP:20260420T163041
CREATED:20190110T093745Z
LAST-MODIFIED:20190110T093745Z
UID:10000741-1567123200-1567123200@www.ocastronomers.org
SUMMARY:New Moon
DESCRIPTION:Views: 175
URL:https://www.ocastronomers.org/calendar/new-moon-9/
LOCATION:CA
CATEGORIES:Moon
ATTACH;FMTTYPE=image/png:https://www.ocastronomers.org/wp-content/uploads/2019/01/New-Moon-2.png
END:VEVENT
BEGIN:VEVENT
DTSTART;TZID=America/Los_Angeles:20190830T203000
DTEND;TZID=America/Los_Angeles:20190830T223000
DTSTAMP:20260420T163041
CREATED:20190128T175217Z
LAST-MODIFIED:20190128T175217Z
UID:10000856-1567197000-1567204200@www.ocastronomers.org
SUMMARY:Public Outreach - Stanton Star Party
DESCRIPTION:Event:           Stanton Star Party\nDate:             Friday\, 8/30/2019\nViewing at 8:30 PM\, Sunset at 7:24 PM \nPlace:           Stanton Star Party\nAddress:       10660 Western Avenue; Stanton\nLocation:       33°48’28″N\, 118°00’07″W \nDirections:    Take CA-55 North and take exit for CA-22 W towards Garden Grove. Follow CA-22 W to Westminster\, 8.3 mi. Take exit 7 for Garden Grove Fwy. Turn Right onto Garden Grove Fwy and make an immediate Left onto Western Ave\, 2.3 mi. Stanton Central Park will be on your Right. \nViews: 175
URL:https://www.ocastronomers.org/calendar/public-outreach-stanton-star-party/
LOCATION:Stanton Central Park\, 10660 Western Ave\, Stanton\, CA\, 90680\, United States
CATEGORIES:Outreach
END:VEVENT
BEGIN:VEVENT
DTSTART;TZID=America/Los_Angeles:20190831T180000
DTEND;TZID=America/Los_Angeles:20190831T180000
DTSTAMP:20260420T163041
CREATED:20190110T093944Z
LAST-MODIFIED:20190110T094100Z
UID:10000742-1567274400-1567274400@www.ocastronomers.org
SUMMARY:Private star party – Anza
DESCRIPTION:Views: 175
URL:https://www.ocastronomers.org/calendar/private-star-party-anza-10/
LOCATION:CA
CATEGORIES:Star Parties
END:VEVENT
END:VCALENDAR