BEGIN:VCALENDAR
VERSION:2.0
PRODID:-//Orange County Astronomers - ECPv6.15.20//NONSGML v1.0//EN
CALSCALE:GREGORIAN
METHOD:PUBLISH
X-ORIGINAL-URL:https://www.ocastronomers.org
X-WR-CALDESC:Events for Orange County Astronomers
REFRESH-INTERVAL;VALUE=DURATION:PT1H
X-Robots-Tag:noindex
X-PUBLISHED-TTL:PT1H
BEGIN:VTIMEZONE
TZID:America/Los_Angeles
BEGIN:DAYLIGHT
TZOFFSETFROM:-0800
TZOFFSETTO:-0700
TZNAME:PDT
DTSTART:20170312T100000
END:DAYLIGHT
BEGIN:STANDARD
TZOFFSETFROM:-0700
TZOFFSETTO:-0800
TZNAME:PST
DTSTART:20171105T090000
END:STANDARD
BEGIN:DAYLIGHT
TZOFFSETFROM:-0800
TZOFFSETTO:-0700
TZNAME:PDT
DTSTART:20180311T100000
END:DAYLIGHT
BEGIN:STANDARD
TZOFFSETFROM:-0700
TZOFFSETTO:-0800
TZNAME:PST
DTSTART:20181104T090000
END:STANDARD
BEGIN:DAYLIGHT
TZOFFSETFROM:-0800
TZOFFSETTO:-0700
TZNAME:PDT
DTSTART:20190310T100000
END:DAYLIGHT
BEGIN:STANDARD
TZOFFSETFROM:-0700
TZOFFSETTO:-0800
TZNAME:PST
DTSTART:20191103T090000
END:STANDARD
END:VTIMEZONE
BEGIN:VEVENT
DTSTART;TZID=America/Los_Angeles:20180502T183000
DTEND;TZID=America/Los_Angeles:20180502T203000
DTSTAMP:20260421T145930
CREATED:20190110T115756Z
LAST-MODIFIED:20190110T115756Z
UID:10000811-1525285800-1525293000@www.ocastronomers.org
SUMMARY:AstroImagers SIG Monthly Meeting
DESCRIPTION:Monthly meeting of the AstroImagers group which meets at: \nThe Urban Workshop\n365-A Clinton Street\nCosta Mesa\, CA 92626 \nIt is located on Clinton Street (off Red Hill)\, which is on the southwest corner of the Orange County Airport. (See map). When entering the lobby\, turn right and go to the end of the hall. \nAll OCA members and prospective members interested in imaging\, or just seeing images and finding out how it’s done are invited to attend. This very active group includes all levels of imagers\, from beginners through experts in CCD\, video and film astrophotography. \nViews: 177
URL:https://www.ocastronomers.org/calendar/astroimagers-sig-monthly-meeting-2/
LOCATION:The Urban Workshop\, 365 Clinton St A\, Costa Mesa\, CA\, 92626\, United States
CATEGORIES:General Meetings
ATTACH;FMTTYPE=image/png:https://www.ocastronomers.org/wp-content/uploads/2019/01/The-Urban-Workshop.png
END:VEVENT
BEGIN:VEVENT
DTSTART;VALUE=DATE:20180504
DTEND;VALUE=DATE:20180505
DTSTAMP:20260421T145930
CREATED:20190110T115837Z
LAST-MODIFIED:20190110T115837Z
UID:10000812-1525392000-1525478399@www.ocastronomers.org
SUMMARY:Eta Aquariid Meteor Shower
DESCRIPTION:Views: 177
URL:https://www.ocastronomers.org/calendar/eta-aquariid-meteor-shower/
LOCATION:CA
END:VEVENT
BEGIN:VEVENT
DTSTART;TZID=America/Los_Angeles:20180504T204500
DTEND;TZID=America/Los_Angeles:20180504T224500
DTSTAMP:20260421T145930
CREATED:20190110T120204Z
LAST-MODIFIED:20190110T120204Z
UID:10000814-1525466700-1525473900@www.ocastronomers.org
SUMMARY:Private Outreach - Davis Magnet School
DESCRIPTION:Event: Davis Magnet School\nDate: Friday\, 5/4/2018\nViewing at 8:45 PM\, Sunset at 7:37 PM \nPlace: Davis Magnet School\nAddress: 1050 Arlington St; Costa Mesa\nLocation: 33°40’13″N\, 117°54’05″W \nDirections: Take CA-55 South toward Newport Beach. Take exit 5B for Baker St; go 0.6 mi. Turn right at Baker St; go 0.3 mi. Turn left at Bristol St; go 0.6 mi. Take the 3rd right onto Newport Blvd; go 0.3 mi. Slight right at Arlington Dr; go 0.5 mi.  \nViews: 177
URL:https://www.ocastronomers.org/calendar/private-outreach-davis-magnet-school-2/
LOCATION:Davis Magnet School\, 1050 Arlington Dr\, Costa Mesa\, CA\, 92626\, United States
CATEGORIES:Outreach
ATTACH;FMTTYPE=image/png:https://www.ocastronomers.org/wp-content/uploads/2019/01/Davis-Magnet-School.png
END:VEVENT
BEGIN:VEVENT
DTSTART;VALUE=DATE:20180505
DTEND;VALUE=DATE:20180506
DTSTAMP:20260421T145930
CREATED:20190110T120241Z
LAST-MODIFIED:20190110T120241Z
UID:10000815-1525478400-1525564799@www.ocastronomers.org
SUMMARY:Cinco de Mayo
DESCRIPTION:Views: 177
URL:https://www.ocastronomers.org/calendar/cinco-de-mayo/
LOCATION:CA
END:VEVENT
BEGIN:VEVENT
DTSTART;TZID=America/Los_Angeles:20180505T204500
DTEND;TZID=America/Los_Angeles:20180505T224500
DTSTAMP:20260421T145930
CREATED:20190110T120441Z
LAST-MODIFIED:20190110T120441Z
UID:10000816-1525553100-1525560300@www.ocastronomers.org
SUMMARY:Private - Cub Scout 766 Camp Out
DESCRIPTION:Event: Cub Scout 766 Camp Out\nDate: Saturday\, 5/5/2018\nViewing at 8:45 PM\, Sunset at 7:36 PM \nPlace: Cub Scout 766 Camp Out\nAddress: 33401 Ortega Hwy; San Juan Capistrano\nLocation: 33°32’29″N\, 117°33’10″W \nDirections: This event is taking place at Caspers Wilderness Park Camogrounds. Take CA-55 south towards Costa Mesa. Take the exit for I-5 South towards San Diego (past the 5/405 merger)\, 20 mil. Use the 2nd from Right lane to take Exit 82 for CA-74/Ortega Highway towards San Juan Capastrano. Turn Left onto CA-74/Ortega Highway\, 7.5 mi. Look for signs for Caspers Wilderness – it will be on your lefthand side. \nViews: 177
URL:https://www.ocastronomers.org/calendar/private-cub-scout-766-camp-out/
LOCATION:CA
CATEGORIES:Private
END:VEVENT
BEGIN:VEVENT
DTSTART;VALUE=DATE:20180507
DTEND;VALUE=DATE:20180508
DTSTAMP:20260421T145930
CREATED:20190110T120547Z
LAST-MODIFIED:20190110T120547Z
UID:10000817-1525651200-1525737599@www.ocastronomers.org
SUMMARY:Last Qtr Moon
DESCRIPTION:3rd Quarter Moon \nViews: 177
URL:https://www.ocastronomers.org/calendar/last-qtr-moon-13/
LOCATION:CA
CATEGORIES:Moon
ATTACH;FMTTYPE=image/png:https://www.ocastronomers.org/wp-content/uploads/2019/01/Last-Qtr-Moon-10.png
END:VEVENT
BEGIN:VEVENT
DTSTART;VALUE=DATE:20180513
DTEND;VALUE=DATE:20180514
DTSTAMP:20260421T145930
CREATED:20190110T121223Z
LAST-MODIFIED:20190110T121223Z
UID:10000820-1526169600-1526255999@www.ocastronomers.org
SUMMARY:Mother’s Day
DESCRIPTION:Views: 177
URL:https://www.ocastronomers.org/calendar/mothers-day/
LOCATION:CA
END:VEVENT
BEGIN:VEVENT
DTSTART;VALUE=DATE:20180515
DTEND;VALUE=DATE:20180516
DTSTAMP:20260421T145930
CREATED:20190110T121323Z
LAST-MODIFIED:20190110T121323Z
UID:10000821-1526342400-1526428799@www.ocastronomers.org
SUMMARY:New Moon
DESCRIPTION:Views: 177
URL:https://www.ocastronomers.org/calendar/new-moon-15/
LOCATION:CA
CATEGORIES:Moon
ATTACH;FMTTYPE=image/png:https://www.ocastronomers.org/wp-content/uploads/2019/01/New-Moon-3.png
END:VEVENT
BEGIN:VEVENT
DTSTART;VALUE=DATE:20180515
DTEND;VALUE=DATE:20180516
DTSTAMP:20260421T145930
CREATED:20190110T121349Z
LAST-MODIFIED:20190110T121349Z
UID:10000822-1526342400-1526428799@www.ocastronomers.org
SUMMARY:Ramadan Begins
DESCRIPTION:Views: 177
URL:https://www.ocastronomers.org/calendar/ramadan-begins/
LOCATION:CA
END:VEVENT
BEGIN:VEVENT
DTSTART;TZID=America/Los_Angeles:20180517T204500
DTEND;TZID=America/Los_Angeles:20180517T224500
DTSTAMP:20260421T145930
CREATED:20190110T121814Z
LAST-MODIFIED:20190110T121814Z
UID:10000824-1526589900-1526597100@www.ocastronomers.org
SUMMARY:Private - New Vista School Spring Dance
DESCRIPTION:Event: New Vista School Spring Dance\nDate: Thursday\, 5/17/2018\nViewing at 8:45 PM\, Sunset at 7:47 PM \nPlace: New Vista School Spring Dance\nAddress: 3101 W Harvard St; Santa Ana\nLocation: 33°43’15″N\, 117°54’38″W \nDirections: This event is taking place at the Heritage Museum in Santa Ana. Take CA-55 South to 405 N. Merge onto 405 North towards Long Beach. Take the Exit 11 Fairview Rd /Harbor Blvd\, keep Right at the fork and follow signs for Fairview Rd. Turn right onto Fairview Rd\, 2.2 mi. Turn Left onto West Harvard Rd. The Heritage Museum will be on your right. Turn into the driveway marked for Bus and Employee Entrance and follow it back behind the museum to park. \nViews: 177
URL:https://www.ocastronomers.org/calendar/private-new-vista-school-spring-dance/
LOCATION:New Vista School Spring Dance\, 23092 Mill Creek Dr\, Laguna Hills\, CA\, 92653\, United States
CATEGORIES:Private
ATTACH;FMTTYPE=image/jpeg:https://www.ocastronomers.org/wp-content/uploads/2019/01/New-Vista-School-Spring-Dance.jpg
END:VEVENT
END:VCALENDAR