BEGIN:VCALENDAR
VERSION:2.0
PRODID:-//Orange County Astronomers - ECPv6.15.20//NONSGML v1.0//EN
CALSCALE:GREGORIAN
METHOD:PUBLISH
X-WR-CALNAME:Orange County Astronomers
X-ORIGINAL-URL:https://www.ocastronomers.org
X-WR-CALDESC:Events for Orange County Astronomers
REFRESH-INTERVAL;VALUE=DURATION:PT1H
X-Robots-Tag:noindex
X-PUBLISHED-TTL:PT1H
BEGIN:VTIMEZONE
TZID:America/Los_Angeles
BEGIN:DAYLIGHT
TZOFFSETFROM:-0800
TZOFFSETTO:-0700
TZNAME:PDT
DTSTART:20200308T100000
END:DAYLIGHT
BEGIN:STANDARD
TZOFFSETFROM:-0700
TZOFFSETTO:-0800
TZNAME:PST
DTSTART:20201101T090000
END:STANDARD
BEGIN:DAYLIGHT
TZOFFSETFROM:-0800
TZOFFSETTO:-0700
TZNAME:PDT
DTSTART:20210314T100000
END:DAYLIGHT
BEGIN:STANDARD
TZOFFSETFROM:-0700
TZOFFSETTO:-0800
TZNAME:PST
DTSTART:20211107T090000
END:STANDARD
BEGIN:DAYLIGHT
TZOFFSETFROM:-0800
TZOFFSETTO:-0700
TZNAME:PDT
DTSTART:20220313T100000
END:DAYLIGHT
BEGIN:STANDARD
TZOFFSETFROM:-0700
TZOFFSETTO:-0800
TZNAME:PST
DTSTART:20221106T090000
END:STANDARD
END:VTIMEZONE
BEGIN:VEVENT
DTSTART;TZID=America/Los_Angeles:20211101T190000
DTEND;TZID=America/Los_Angeles:20211101T210000
DTSTAMP:20260422T025850
CREATED:20210919T234108Z
LAST-MODIFIED:20210919T234108Z
UID:10001137-1635793200-1635800400@www.ocastronomers.org
SUMMARY:Outreach- Biola University
DESCRIPTION:Views: 34
URL:https://www.ocastronomers.org/calendar/outreach-biola-university/
LOCATION:Biola University\, 13800 Biola Avenue\, La Mirada\, CA\, 90639\, United States
CATEGORIES:Outreach
END:VEVENT
BEGIN:VEVENT
DTSTART;TZID=America/Los_Angeles:20211104T190000
DTEND;TZID=America/Los_Angeles:20211104T210000
DTSTAMP:20260422T025850
CREATED:20210919T235248Z
LAST-MODIFIED:20210919T235248Z
UID:10001140-1636052400-1636059600@www.ocastronomers.org
SUMMARY:Outreach- Dale Junior High
DESCRIPTION:Orange County Astronomers are ready to share the love of the sky with our community.\nViews: 34
URL:https://www.ocastronomers.org/calendar/outreach-dale-junior-high/
LOCATION:Dale Junior High\, 900 South Dale Ave\, Anaheim\, CA\, 92804\, United States
CATEGORIES:Outreach
END:VEVENT
BEGIN:VEVENT
DTSTART;TZID=America/Los_Angeles:20211105T190000
DTEND;TZID=America/Los_Angeles:20211105T210000
DTSTAMP:20260422T025850
CREATED:20210919T234719Z
LAST-MODIFIED:20210919T234719Z
UID:10001138-1636138800-1636146000@www.ocastronomers.org
SUMMARY:Outreach - Crown Valley Community Park
DESCRIPTION:Orange County Astronomers are ready to share the love of the sky to our community.\nViews: 34
URL:https://www.ocastronomers.org/calendar/outreach-crown-valley-community-park/
LOCATION:Crown Valley Community Park\, 29751 Crown Valley Parkway\,\, Laguna Niguel\, 92677
CATEGORIES:Outreach
END:VEVENT
BEGIN:VEVENT
DTSTART;TZID=America/Los_Angeles:20211108T190000
DTEND;TZID=America/Los_Angeles:20211108T210000
DTSTAMP:20260422T025850
CREATED:20211025T024808Z
LAST-MODIFIED:20211109T003619Z
UID:10001142-1636398000-1636405200@www.ocastronomers.org
SUMMARY:CANCELED-Outreach- Community Roots Academy
DESCRIPTION:This Charter school will have students marvel at the stars with the help of OCA guest astronomers. \nViews: 34
URL:https://www.ocastronomers.org/calendar/outreach-dale-jr-high/
LOCATION:Community Roots Academy\, 29292 Crown Valley Pkwy\, Laguna Niguel\, CA\, 92677\, United States
CATEGORIES:Outreach
END:VEVENT
BEGIN:VEVENT
DTSTART;TZID=America/Los_Angeles:20211110T070000
DTEND;TZID=America/Los_Angeles:20211110T210000
DTSTAMP:20260422T025850
CREATED:20210919T234939Z
LAST-MODIFIED:20211012T003855Z
UID:10001139-1636527600-1636578000@www.ocastronomers.org
SUMMARY:Outreach- Laguna Woods Astro Club
DESCRIPTION:Orange County Astronomers are ready to share the love of the sky with our community.\nViews: 34
URL:https://www.ocastronomers.org/calendar/outreach-laguna-woods-astro-club/
LOCATION:Laguna Woods Astronomy Club\, 24351 El Toro Road\, Laguna Woods\, CA\, 92637\, United States
CATEGORIES:Outreach
END:VEVENT
END:VCALENDAR