BEGIN:VCALENDAR
VERSION:2.0
PRODID:-//Orange County Astronomers - ECPv6.15.20//NONSGML v1.0//EN
CALSCALE:GREGORIAN
METHOD:PUBLISH
X-WR-CALNAME:Orange County Astronomers
X-ORIGINAL-URL:https://www.ocastronomers.org
X-WR-CALDESC:Events for Orange County Astronomers
REFRESH-INTERVAL;VALUE=DURATION:PT1H
X-Robots-Tag:noindex
X-PUBLISHED-TTL:PT1H
BEGIN:VTIMEZONE
TZID:America/Los_Angeles
BEGIN:DAYLIGHT
TZOFFSETFROM:-0800
TZOFFSETTO:-0700
TZNAME:PDT
DTSTART:20200308T100000
END:DAYLIGHT
BEGIN:STANDARD
TZOFFSETFROM:-0700
TZOFFSETTO:-0800
TZNAME:PST
DTSTART:20201101T090000
END:STANDARD
BEGIN:DAYLIGHT
TZOFFSETFROM:-0800
TZOFFSETTO:-0700
TZNAME:PDT
DTSTART:20210314T100000
END:DAYLIGHT
BEGIN:STANDARD
TZOFFSETFROM:-0700
TZOFFSETTO:-0800
TZNAME:PST
DTSTART:20211107T090000
END:STANDARD
BEGIN:DAYLIGHT
TZOFFSETFROM:-0800
TZOFFSETTO:-0700
TZNAME:PDT
DTSTART:20220313T100000
END:DAYLIGHT
BEGIN:STANDARD
TZOFFSETFROM:-0700
TZOFFSETTO:-0800
TZNAME:PST
DTSTART:20221106T090000
END:STANDARD
END:VTIMEZONE
BEGIN:VEVENT
DTSTART;TZID=America/Los_Angeles:20211015T190000
DTEND;TZID=America/Los_Angeles:20211015T210000
DTSTAMP:20260422T042621
CREATED:20210919T233927Z
LAST-MODIFIED:20210919T233927Z
UID:10001136-1634324400-1634331600@www.ocastronomers.org
SUMMARY:Outreach- Laguna Niguel Elementary
DESCRIPTION:Views: 34
URL:https://www.ocastronomers.org/calendar/outreach-laguna-niguel-elementary/
LOCATION:Laguna Niguel Elementary\, 27922 Niguel Heights Blvd\, Laguna Niguel\, CA\, 92677\, United States
CATEGORIES:Outreach
END:VEVENT
END:VCALENDAR