BEGIN:VCALENDAR
VERSION:2.0
PRODID:-//Orange County Astronomers - ECPv6.15.20//NONSGML v1.0//EN
CALSCALE:GREGORIAN
METHOD:PUBLISH
X-ORIGINAL-URL:https://www.ocastronomers.org
X-WR-CALDESC:Events for Orange County Astronomers
REFRESH-INTERVAL;VALUE=DURATION:PT1H
X-Robots-Tag:noindex
X-PUBLISHED-TTL:PT1H
BEGIN:VTIMEZONE
TZID:America/Los_Angeles
BEGIN:DAYLIGHT
TZOFFSETFROM:-0800
TZOFFSETTO:-0700
TZNAME:PDT
DTSTART:20190310T100000
END:DAYLIGHT
BEGIN:STANDARD
TZOFFSETFROM:-0700
TZOFFSETTO:-0800
TZNAME:PST
DTSTART:20191103T090000
END:STANDARD
BEGIN:DAYLIGHT
TZOFFSETFROM:-0800
TZOFFSETTO:-0700
TZNAME:PDT
DTSTART:20200308T100000
END:DAYLIGHT
BEGIN:STANDARD
TZOFFSETFROM:-0700
TZOFFSETTO:-0800
TZNAME:PST
DTSTART:20201101T090000
END:STANDARD
BEGIN:DAYLIGHT
TZOFFSETFROM:-0800
TZOFFSETTO:-0700
TZNAME:PDT
DTSTART:20210314T100000
END:DAYLIGHT
BEGIN:STANDARD
TZOFFSETFROM:-0700
TZOFFSETTO:-0800
TZNAME:PST
DTSTART:20211107T090000
END:STANDARD
END:VTIMEZONE
BEGIN:VEVENT
DTSTART;TZID=America/Los_Angeles:20201214T063000
DTEND;TZID=America/Los_Angeles:20201214T213000
DTSTAMP:20260422T184915
CREATED:20201211T194016Z
LAST-MODIFIED:20201211T194632Z
UID:10001062-1607927400-1607981400@www.ocastronomers.org
SUMMARY:Online Solar Eclipse
DESCRIPTION:The last solar eclipse of 2020 will be on Monday December 14th and is going to be only visible from Southern America. \nBehold that OCA in collaboration with Prof. Elizabeth Villanueva and her students from Colegio Alberto Pérez has arranged for an international live broadcast of the event. \nThe program will be held from the start of the eclipse at 6:30am PST up until its end at 9:30am PST. In addition to the Chilean view of the sun\, there will be short presentations by students and teacher from all around the world. \nTo attend\, have zoom installed and then visit the page below at the appropriate time. \nhttps://www.astrozoom.space/attend \n \nViews: 34
URL:https://www.ocastronomers.org/calendar/online-solar-eclipse-2020/
LOCATION:Online
CATEGORIES:Celestial Events,Outreach,Star Parties
ATTACH;FMTTYPE=image/jpeg:https://www.ocastronomers.org/wp-content/uploads/2020/12/Eclipse_Chile_PST.jpeg
END:VEVENT
END:VCALENDAR