BEGIN:VCALENDAR
VERSION:2.0
PRODID:-//Orange County Astronomers - ECPv6.15.20//NONSGML v1.0//EN
CALSCALE:GREGORIAN
METHOD:PUBLISH
X-WR-CALNAME:Orange County Astronomers
X-ORIGINAL-URL:https://www.ocastronomers.org
X-WR-CALDESC:Events for Orange County Astronomers
REFRESH-INTERVAL;VALUE=DURATION:PT1H
X-Robots-Tag:noindex
X-PUBLISHED-TTL:PT1H
BEGIN:VTIMEZONE
TZID:America/Los_Angeles
BEGIN:DAYLIGHT
TZOFFSETFROM:-0800
TZOFFSETTO:-0700
TZNAME:PDT
DTSTART:20190310T100000
END:DAYLIGHT
BEGIN:STANDARD
TZOFFSETFROM:-0700
TZOFFSETTO:-0800
TZNAME:PST
DTSTART:20191103T090000
END:STANDARD
BEGIN:DAYLIGHT
TZOFFSETFROM:-0800
TZOFFSETTO:-0700
TZNAME:PDT
DTSTART:20200308T100000
END:DAYLIGHT
BEGIN:STANDARD
TZOFFSETFROM:-0700
TZOFFSETTO:-0800
TZNAME:PST
DTSTART:20201101T090000
END:STANDARD
BEGIN:DAYLIGHT
TZOFFSETFROM:-0800
TZOFFSETTO:-0700
TZNAME:PDT
DTSTART:20210314T100000
END:DAYLIGHT
BEGIN:STANDARD
TZOFFSETFROM:-0700
TZOFFSETTO:-0800
TZNAME:PST
DTSTART:20211107T090000
END:STANDARD
END:VTIMEZONE
BEGIN:VEVENT
DTSTART;TZID=America/Los_Angeles:20200402T201500
DTEND;TZID=America/Los_Angeles:20200402T213000
DTSTAMP:20260423T054942
CREATED:20191125T181750Z
LAST-MODIFIED:20200316T170735Z
UID:10000977-1585858500-1585863000@www.ocastronomers.org
SUMMARY:Private Outreach - To Be Rescheduled
DESCRIPTION:Event: Olivewood Elementary School\nDate: Thursday\, 4/2/2020\nTime: Viewing at 8:15 PM\, Sunset at 7:13 PM \nPlace: Olivewood Elementary School\nAddress: 23391 Dune Mear Road; Lake Forest\, 92630\nLocation: 33°37’25″N\, 117°42’19″W \nDirections: From downtown Orange. Turn right onto E Chapman Ave. Take the ramp onto CA-55 S; State Rte 55 S; go 2.7 mi. Take exit 11A for Interstate 5 S toward San Diego; go 1.1 mi. Merge onto I-5 S; go 5.9 mi. Keep right to stay on I-5 S; go 2.0 mi. Take exit 92 for Lake Forest Dr; go 1.9 mi. Turn left onto Lake Forest Dr; go 0.4 mi. Turn right onto Rockfield Blvd; go 0.9 mi. Turn left onto Cavanaugh Rd; go 0.2 mi. Turn left onto McCoy Rd. Turn right onto Dune Mear Rd. Turn left. School is on the right. \nViews: 34
URL:https://www.ocastronomers.org/calendar/private-outreach-olivewood-elementary/
LOCATION:Olivewood Elementary School\, 23391 Dune Mear Road\, Lake Forest\, 92630\, United States
CATEGORIES:Outreach,Private
END:VEVENT
BEGIN:VEVENT
DTSTART;TZID=America/Los_Angeles:20200407T193000
DTEND;TZID=America/Los_Angeles:20200407T213000
DTSTAMP:20260423T054942
CREATED:20191010T042329Z
LAST-MODIFIED:20200311T173205Z
UID:10000972-1586287800-1586295000@www.ocastronomers.org
SUMMARY:Private Outreach - Cypress District Rescheduled
DESCRIPTION:Details TBD \nViews: 34
URL:https://www.ocastronomers.org/calendar/private-outreach-cypress-district-outreach/
CATEGORIES:Outreach,Private
END:VEVENT
BEGIN:VEVENT
DTSTART;TZID=America/Los_Angeles:20200414T203000
DTEND;TZID=America/Los_Angeles:20200414T220000
DTSTAMP:20260423T054942
CREATED:20190623T202952Z
LAST-MODIFIED:20200407T050130Z
UID:10000894-1586896200-1586901600@www.ocastronomers.org
SUMMARY:Private Outreach - Canceled
DESCRIPTION:Event:           Laguna Woods Astronomy Club\nDate:             Tuesday\, 4/14/2020\nViewing at 8:30 PM\, Sunset at 7:22 PM \nPlace:           Held at Clubhouse 5\nAddress:       24262 Punta Alta; Laguna Woods\nLocation:       33°36’30″N\, 117°44’54″W \nDirections:    Take CA-55 to I-5 South.  Merge onto I-5 South; go 11.9 mi to the El Toro Rd exit.  Merge onto Paseo de Valencia; go 0.2 mi.  Turn right onto El Toro Rd and go 2.1 mi to Calle Corta.  Turn right on Calle Corta into Gate 9.  Turn right at Avenida Sosiega; go 0.2 mi.  Turn left at Monte Hermoso; go 0.3 mi.  Turn right at Punta Alta\, Clubhouse 5 is on the right. \nViews: 34
URL:https://www.ocastronomers.org/calendar/private-outreach-laguna-woods-astronomy-club-8/
LOCATION:Laguna Woods Astronomy Club\, 24351 El Toro Road\, Laguna Woods\, CA\, 92637\, United States
CATEGORIES:Outreach,Private
END:VEVENT
BEGIN:VEVENT
DTSTART;TZID=America/Los_Angeles:20200417T203000
DTEND;TZID=America/Los_Angeles:20200417T223000
DTSTAMP:20260423T054942
CREATED:20190623T202853Z
LAST-MODIFIED:20200317T140641Z
UID:10000893-1587155400-1587162600@www.ocastronomers.org
SUMMARY:Public Outreach - To Be Rescheduled
DESCRIPTION:Event:           OC Parks Upper Newport Bay\nDate:             Friday\, 4/17/2020\nViewing at 8:30 PM\, Sunset at 7:24 PM \nPlace:           OC Parks Upper Newport Bay\nAddress:       2301 University Drive; Newport Beach\nLocation:       33°39’16″N\, 117°53’11″W \nDirections:    Take CA-55 South towards Costa Mesa. Use the Right 2 lanes to take Exit 5A towards SR-73 South to San Diego\, 0.9 mi. Merge onto SR-73 S and take Right lane to take Exit 16 towards Irvine Ave/ Campus Dr.\, 0.2 mi. Use Right lane to merge onto SE Bristol St.\, 0.1 mi. Use Right 2 lanes\, turn Right onto Irvine Ave.\, 0.9 mi. Turn Left onto University Dr. Park will be on your immediate right\, take 2nd driveway to turn into employee parking lot. (Do not use public parking lot) \nViews: 34
URL:https://www.ocastronomers.org/calendar/public-outreach-oc-parks-upper-newport-bay-2/
LOCATION:OC Parks Upper Newport Bay\, 2301 University Drive\, Newport Beach\, CA\, 92660\, United States
CATEGORIES:Outreach
END:VEVENT
BEGIN:VEVENT
DTSTART;TZID=America/Los_Angeles:20200421T203000
DTEND;TZID=America/Los_Angeles:20200421T220000
DTSTAMP:20260423T054942
CREATED:20200219T015721Z
LAST-MODIFIED:20200317T171539Z
UID:10000998-1587501000-1587506400@www.ocastronomers.org
SUMMARY:Private Outreach - To Be Rescheduled
DESCRIPTION:Event: Biola University\nDate: Tuesday\, 4/21/2020\nTime: Viewing at 8:30 PM\, Sunset at 7:28 PM \nPlace: Biola University\nAddress: 13800 Biola Avenue; La Mirada\, 90639\nLocation: 33°54’18″N\, 118°00’48″W \nDirections: Take CA-91 West or I-5 North to Beach Blvd. Exit onto Auto Center Drive. Continue to Beach Blvd. Go north on Beach Blvd about 1.0 mi. Turn left onto La Mirada Blvd. Drive 1 mi past Rosecrans Ave. Turn left at the east campus entrance. Drive to parking structure K. Enter and drive to the top level to set up. \nViews: 34
URL:https://www.ocastronomers.org/calendar/private-outreach-biola-university-3/
LOCATION:Biola University\, 13800 Biola Avenue\, La Mirada\, CA\, 90639\, United States
CATEGORIES:Outreach,Private
END:VEVENT
BEGIN:VEVENT
DTSTART;TZID=America/Los_Angeles:20200422T203000
DTEND;TZID=America/Los_Angeles:20200422T220000
DTSTAMP:20260423T054943
CREATED:20200219T051618Z
LAST-MODIFIED:20200317T171620Z
UID:10000999-1587587400-1587592800@www.ocastronomers.org
SUMMARY:Private Outreach - To Be Rescheduled
DESCRIPTION:Event: Lake View Elementary\nDate: Wednesday\, 4/22/2020\nTime: Viewing at 8:30 PM\, Sunset at 7:29 PM \nPlace: Lake View Elementary\nAddress: 17451 Zeider Lane; Huntington Beach\, 92647\nLocation: 33°42’33″N\, 117°58’56″W \nDirections: Take the CA-55 South toward Newport Beach. Take I-405 North – go 6.1 mi. Take the Warner Ave West exit – go 1.2 mi. Turn left on Newland St – go 0.5 mi. Turn right on Slater Ave – go 0.1 mi. Turn right on Zeider Ln – go < 0.1 mi. School is on the left. \nViews: 34
URL:https://www.ocastronomers.org/calendar/private-outreach-lake-view-elementary-2/
LOCATION:Lakeview Elementary School\, 3371 Brittany Way\, El Dorado Hills\, CA\, 95762\, United States
CATEGORIES:Outreach,Private
END:VEVENT
BEGIN:VEVENT
DTSTART;TZID=America/Los_Angeles:20200430T203000
DTEND;TZID=America/Los_Angeles:20200430T203000
DTSTAMP:20260423T054943
CREATED:20200321T020846Z
LAST-MODIFIED:20200321T020949Z
UID:10001004-1588278600-1588278600@www.ocastronomers.org
SUMMARY:Private Outreach - Cypress District Pink Moon Canceled
DESCRIPTION:Views: 34
URL:https://www.ocastronomers.org/calendar/private-outreach-cypress-district-pink-moon/
LOCATION:King Elementary School\, 8710 Moody Street\, Cypress\, CA\, 90630\, United States
CATEGORIES:Outreach,Private
END:VEVENT
END:VCALENDAR