BEGIN:VCALENDAR
VERSION:2.0
PRODID:-//Orange County Astronomers - ECPv6.15.20//NONSGML v1.0//EN
CALSCALE:GREGORIAN
METHOD:PUBLISH
X-WR-CALNAME:Orange County Astronomers
X-ORIGINAL-URL:https://www.ocastronomers.org
X-WR-CALDESC:Events for Orange County Astronomers
REFRESH-INTERVAL;VALUE=DURATION:PT1H
X-Robots-Tag:noindex
X-PUBLISHED-TTL:PT1H
BEGIN:VTIMEZONE
TZID:America/Los_Angeles
BEGIN:DAYLIGHT
TZOFFSETFROM:-0800
TZOFFSETTO:-0700
TZNAME:PDT
DTSTART:20180311T100000
END:DAYLIGHT
BEGIN:STANDARD
TZOFFSETFROM:-0700
TZOFFSETTO:-0800
TZNAME:PST
DTSTART:20181104T090000
END:STANDARD
BEGIN:DAYLIGHT
TZOFFSETFROM:-0800
TZOFFSETTO:-0700
TZNAME:PDT
DTSTART:20190310T100000
END:DAYLIGHT
BEGIN:STANDARD
TZOFFSETFROM:-0700
TZOFFSETTO:-0800
TZNAME:PST
DTSTART:20191103T090000
END:STANDARD
BEGIN:DAYLIGHT
TZOFFSETFROM:-0800
TZOFFSETTO:-0700
TZNAME:PDT
DTSTART:20200308T100000
END:DAYLIGHT
BEGIN:STANDARD
TZOFFSETFROM:-0700
TZOFFSETTO:-0800
TZNAME:PST
DTSTART:20201101T090000
END:STANDARD
END:VTIMEZONE
BEGIN:VEVENT
DTSTART;TZID=America/Los_Angeles:20191202T190000
DTEND;TZID=America/Los_Angeles:20191202T210000
DTSTAMP:20260423T120141
CREATED:20190816T033932Z
LAST-MODIFIED:20191202T215743Z
UID:10000946-1575313200-1575320400@www.ocastronomers.org
SUMMARY:Private Outreach - Canceled
DESCRIPTION:Event:           Bathgate Elementary School\nDate:             Monday\, 12/2/2019\nViewing at 7:00 PM\, Sunset at 4:44 PM \nPlace:            Bathgate Elementary School\nAddress:       27642 Napoli Way; Mission Viejo\nLocation:      33°34’48″N\, 117°38’56″W \nDirections:    Take CA-55 S to I-5 South.  Take exit 11A and merge onto I-5 S; go 5.9 mi.  Keep right to stay on I-5 S; go 8.3 mi.  Take exit 88 for Oso Pkwy; go 0.3 mi.  Turn left onto Oso Pkwy); go 1.9 mi.  Turn right onto San Rafael; go 0.7 mi.  Turn right onto Napoli Way.  School is on the left.  Access the basketball court by circling counter-clockwise around the back of the school starting from the north end of the school. \nViews: 34
URL:https://www.ocastronomers.org/calendar/private-outreach-bathgate-elementary-school-2/
LOCATION:Bathgate Elementary School\, 27642 Napoli Way\, Mission Viejo\, CA\, United States
CATEGORIES:Outreach
END:VEVENT
BEGIN:VEVENT
DTSTART;TZID=America/Los_Angeles:20191203T190000
DTEND;TZID=America/Los_Angeles:20191203T190000
DTSTAMP:20260423T120141
CREATED:20190121T050120Z
LAST-MODIFIED:20191202T200027Z
UID:10000853-1575399600-1575399600@www.ocastronomers.org
SUMMARY:Private Outreach - Canceled
DESCRIPTION:Directions: Take CA-55 South towards Costa Mesa\,2.4 mi. Take exit 11A and merge onto I-5 South towards San Diego. Travel 3 miles and take exit 99 for Culver Drive. Turn Left onto Culver Drive. Turn Right onto Irvine Blvd\, .7 mi. Turn Left onto Yale Ave\, 0.3 mi. Turn Left onto Orange Arrow and then Right onto Christamon West. School is located on the Left. \nSunset at 4:44 PM \nViews: 34
URL:https://www.ocastronomers.org/calendar/private-outreach-santiago-hills-elementary/
LOCATION:Santiago Hills Elementary School\, 29 Christamon W\, Irvine\, CA\, 92620\, United States
CATEGORIES:Outreach
ATTACH;FMTTYPE=image/png:https://www.ocastronomers.org/wp-content/uploads/2019/01/Santiago-Hills-Elementary-School.png
END:VEVENT
BEGIN:VEVENT
DTSTART;TZID=America/Los_Angeles:20191204T190000
DTEND;TZID=America/Los_Angeles:20191204T203000
DTSTAMP:20260423T120141
CREATED:20191027T032217Z
LAST-MODIFIED:20191202T200209Z
UID:10000973-1575486000-1575491400@www.ocastronomers.org
SUMMARY:Private Outreach - Canceled
DESCRIPTION:Event:           Lampson Elementary\nDate:             Wednesday\, 12/4/2019\nTime:             Viewing at 7:00 PM\, Sunset at 4:44 PM \nPlace:           Lampson Elementary\nAddress:      13321 Lampson Ave; Garden Grove\, 92604\nLocation:      33°47’01″N\, 117°54’00″W \nDirections:    Take CA-55 to CA-22W and go 3 mi to the City Dr exit.  Exit then turn left at W Metropolitan Dr/The Block; go 0.5 mi.  Continue on Lampson Ave; go 0.2 mi. \nViews: 34
URL:https://www.ocastronomers.org/calendar/private-outreach-lampson-elementary/
LOCATION:Lampson Elementary School\, 13321 Lampson Ave\, Garden Grove\, CA\, 92604\, United States
CATEGORIES:Outreach,Private
END:VEVENT
BEGIN:VEVENT
DTSTART;TZID=America/Los_Angeles:20191204T190000
DTEND;TZID=America/Los_Angeles:20191204T210000
DTSTAMP:20260423T120141
CREATED:20190702T044405Z
LAST-MODIFIED:20191202T183240Z
UID:10000926-1575486000-1575493200@www.ocastronomers.org
SUMMARY:Private Outreach - Canceled
DESCRIPTION:Event:           Lomarena Elementary<br>\nDate:             Wednesday\, 12/4/2019<br>\nTime:           Viewing at 7:00 PM\, Sunset at 4:44 PM<br>\n<br>\nPlace:           Lomarena Elementary<br>\nAddress:       25100 Earhart Rd; Laguna Hills<br>\nLocation:       33°35’42″N\, 117°41’36″W<br>\n<br>\nDirections:    Take the CA-55 South to the I-5.  Take the I-5 South towards San Diego – go 13 mi.  Take the Alicia Pkwy exit.  Turn right on Alicia Pky – go 0.6 mi.  Turn left on Wilkes Pl – go < 0.1 mi.  Turn left on Barents – go 0.1 mi.  Turn right on Earhart Rd.<br> \nViews: 34
URL:https://www.ocastronomers.org/calendar/private-outreach-lomarena-elementary-2/
LOCATION:Lomarena Elementary\, 25100 Earhart Rd\, Laguna Hills\, CA\, 92653\, United States
CATEGORIES:Outreach,Private
END:VEVENT
BEGIN:VEVENT
DTSTART;TZID=America/Los_Angeles:20191205T190000
DTEND;TZID=America/Los_Angeles:20191205T210000
DTSTAMP:20260423T120141
CREATED:20190623T204826Z
LAST-MODIFIED:20191204T171754Z
UID:10000902-1575572400-1575579600@www.ocastronomers.org
SUMMARY:Private Outreach - Canceled
DESCRIPTION:Event:           Utt Middle School\nDate:             Thursday\, 12/5/2019\nViewing at 7:00 PM\, Sunset at 4:44 PM \nPlace:           Utt Middle School\nAddress:       13601 Browning Ave.; Tustin\nLocation:       33°44’03″N\, 117°48’21″W \nDirections:   Take CA-55 to I-5 South. Merge onto I-5 South; go 1.6 mi. Exit on Red Hill Ave. Turn left at Red Hill Ave; go 0.3 mi. Turn right at San Juan St; go 0.5 mi. Turn left at Browning Ave. School is on the left. \nViews: 34
URL:https://www.ocastronomers.org/calendar/private-outreach-utt-middle-school/
LOCATION:Utt Middle School\, 13601 Browning Ave\, Tustin\, CA\, 92780\, United States
CATEGORIES:Outreach,Private
END:VEVENT
BEGIN:VEVENT
DTSTART;TZID=America/Los_Angeles:20191217T190000
DTEND;TZID=America/Los_Angeles:20191217T210000
DTSTAMP:20260423T120141
CREATED:20190623T204653Z
LAST-MODIFIED:20191217T013537Z
UID:10000901-1576609200-1576616400@www.ocastronomers.org
SUMMARY:Private Outreach - Canceled
DESCRIPTION:Event:           Beacon Park Elementary School\nDate:             Tuesday\, 12/17/2019\nViewing at 7:00 PM\, Sunset at \nPlace:           Beacon Park Elementary School\nAddress:       200 Cultivate; Irvine\nLocation:       33°41’28″N\, 117°44’00″W \nDirections:   Take CA-133 to Irvine Blvd. From North turn left on Irvine Blvd or from South turn right on Irvine Blvd. Go 0.4 mi to Ridge Valley. Turn right onto Ridge Valley; go 0.1 mi. At the traffic circle\, take the 2nd exit and stay on Ridge Valley; go 0.3 mi. Turn left onto Benchmark; go 0.1 mi. Continue past Cultivate and enter the gate on the side of the school. \nViews: 34
URL:https://www.ocastronomers.org/calendar/private-outreach-beacon-park-elementary-school/
LOCATION:Beacon Park Elementary School\, 200 Cultivate\, Irvine\, CA\, Irvine\, United States
CATEGORIES:Outreach,Private
END:VEVENT
BEGIN:VEVENT
DTSTART;TZID=America/Los_Angeles:20191218T190000
DTEND;TZID=America/Los_Angeles:20191218T210000
DTSTAMP:20260423T120141
CREATED:20190814T043556Z
LAST-MODIFIED:20190814T043556Z
UID:10000944-1576695600-1576702800@www.ocastronomers.org
SUMMARY:Private Outreach - Adams Elementary School
DESCRIPTION:Event:           Adams Elementary School\nDate:             Wednesday\, 12/18/2019\nViewing at 7:00 PM\, Sunset at 4:46 PM \nPlace:           Adams Elementary School\nAddress:       2130 S Raitt St; Santa Ana\nLocation:       33°43’04″N\, 117°53’48″W \nDirections:    Take CA-55 South towards Costa Mesa. Take Exit 8A-8B for Dyer Road East towards Dyer Road West. Turn Right onto S Grand Ave\, 0.3mi. Turn Left onto E Warner Ave\, 2.6mi. Turn Right onto S Raitt St\, 0.2mi. School will be on your Left. \nViews: 34
URL:https://www.ocastronomers.org/calendar/private-outreach-adams-elementary-school/
LOCATION:Adams Elementary School\, 2130 S Raitt St\, Santa Ana\, CA\, United States
CATEGORIES:Outreach
END:VEVENT
END:VCALENDAR