BEGIN:VCALENDAR
VERSION:2.0
PRODID:-//Orange County Astronomers - ECPv6.15.20//NONSGML v1.0//EN
CALSCALE:GREGORIAN
METHOD:PUBLISH
X-ORIGINAL-URL:https://www.ocastronomers.org
X-WR-CALDESC:Events for Orange County Astronomers
REFRESH-INTERVAL;VALUE=DURATION:PT1H
X-Robots-Tag:noindex
X-PUBLISHED-TTL:PT1H
BEGIN:VTIMEZONE
TZID:America/Los_Angeles
BEGIN:DAYLIGHT
TZOFFSETFROM:-0800
TZOFFSETTO:-0700
TZNAME:PDT
DTSTART:20180311T100000
END:DAYLIGHT
BEGIN:STANDARD
TZOFFSETFROM:-0700
TZOFFSETTO:-0800
TZNAME:PST
DTSTART:20181104T090000
END:STANDARD
BEGIN:DAYLIGHT
TZOFFSETFROM:-0800
TZOFFSETTO:-0700
TZNAME:PDT
DTSTART:20190310T100000
END:DAYLIGHT
BEGIN:STANDARD
TZOFFSETFROM:-0700
TZOFFSETTO:-0800
TZNAME:PST
DTSTART:20191103T090000
END:STANDARD
BEGIN:DAYLIGHT
TZOFFSETFROM:-0800
TZOFFSETTO:-0700
TZNAME:PDT
DTSTART:20200308T100000
END:DAYLIGHT
BEGIN:STANDARD
TZOFFSETFROM:-0700
TZOFFSETTO:-0800
TZNAME:PST
DTSTART:20201101T090000
END:STANDARD
END:VTIMEZONE
BEGIN:VEVENT
DTSTART;TZID=America/Los_Angeles:20190705T193000
DTEND;TZID=America/Los_Angeles:20190705T213000
DTSTAMP:20260423T184426
CREATED:20190110T085457Z
LAST-MODIFIED:20190609T204835Z
UID:10000729-1562355000-1562362200@www.ocastronomers.org
SUMMARY:Beginner’s Class -"How to use your Telescope"
DESCRIPTION:This is the “How to Use Your Telescope” session of the Beginners Astronomy Class\, held at the Heritage Museum of Orange County in Santa Ana. If you have a telescope and would like some help learning to set it up and use it\, bring it along to this class. Or just attend to look through a telescope. As with all sessions of the Beginners Class\, it is free and open to the public. For details about the Beginners Class in general\, including the schedule of topics and course handouts\, please see the webpage on the Beginners Class\, under “About” and “Special Interest Groups”. Free and open to the public as well as members of OCA. Note: All who attend are invited to one of our monthly OC star parties as our guest. \nIf you are an experienced telescope user we can always use volunteers to help on this night. Share your knowledge and meet other astronomers. \n  \nViews: 34
URL:https://www.ocastronomers.org/calendar/beginners-class-how-to-use-your-telescope/
LOCATION:Heritage Museum of OC\, 3101 W Harvard St\, Santa Ana\, CA\, 92704\, United States
CATEGORIES:Outreach
END:VEVENT
BEGIN:VEVENT
DTSTART;TZID=America/Los_Angeles:20190708T190000
DTEND;TZID=America/Los_Angeles:20190708T210000
DTSTAMP:20260423T184426
CREATED:20190708T185110Z
LAST-MODIFIED:20190708T185110Z
UID:10000932-1562612400-1562619600@www.ocastronomers.org
SUMMARY:Private Outreach - Bathgate Elementary School
DESCRIPTION:Event:           Bathgate Elementary School\nDate:             Monday\, 12/2/2019\nViewing at 7:00 PM\, Sunset at 4:44 PM \nPlace:           Bathgate Elementary School\nAddress:       27642 Napoli Way; Mission Viejo\nLocation:       33°34’48″N\, 117°38’56″W \nDirections:    Take CA-55 S to I-5 South.  Take exit 11A and merge onto I-5 S; go 5.9 mi.  Keep right to stay on I-5 S; go 8.3 mi.  Take exit 88 for Oso Pkwy; go 0.3 mi.  Turn left onto Oso Pkwy); go 1.9 mi.  Turn right onto San Rafael; go 0.7 mi.  Turn right onto Napoli Way.  School is on the left.  Access the basketball court by circling counter-clockwise around the back of the school starting from the north end of the school. \nViews: 34
URL:https://www.ocastronomers.org/calendar/private-outreach-bathgate-elementary-school/
LOCATION:Bathgate Elementary School Foundation\, 27642 Napoli Way\, Mission Viejo\, CA\, 92692\, United States
CATEGORIES:Outreach
END:VEVENT
BEGIN:VEVENT
DTSTART;TZID=America/Los_Angeles:20190708T190000
DTEND;TZID=America/Los_Angeles:20190708T210000
DTSTAMP:20260423T184426
CREATED:20190708T185820Z
LAST-MODIFIED:20190708T185820Z
UID:10000933-1562612400-1562619600@www.ocastronomers.org
SUMMARY:Private Outreach - Russell Elementary School
DESCRIPTION:Event:           Russell Elementary School\nDate:             Thursday\, 2/20/2020\nViewing at 7:00 PM\, Sunset at 5:40 PM \nPlace:           Russell Elementary School\nAddress:       600 S Jackson; Santa Ana\nLocation:       33°44’21″N\, 117°55’00″W \nDirections:    Take CA-55 to CA-22 W.  Take exit 13 to merge onto CA-22 W; go 5.4 mi.  Take exit 12 for Harbor Blvd; go 0.3 mi.  Turn left onto Harbor Blvd; go 2.0 mi.  Turn left onto W Camille St; go 0.3 mi.  Take the 1st right onto S Jackson St; go 0.1 mi.  School is on the right\, \nViews: 34
URL:https://www.ocastronomers.org/calendar/private-outreach-russell-elementary-school/
LOCATION:Russell Elementary School\, 600 S Jackson\, Santa Ana\, CA\, 92704\, United States
CATEGORIES:Outreach
END:VEVENT
BEGIN:VEVENT
DTSTART;TZID=America/Los_Angeles:20190713T210000
DTEND;TZID=America/Los_Angeles:20190713T223000
DTSTAMP:20260423T184426
CREATED:20190623T211950Z
LAST-MODIFIED:20190714T014133Z
UID:10000917-1563051600-1563057000@www.ocastronomers.org
SUMMARY:Private Outreach - Cancelled
DESCRIPTION:Event:           San Mateo Campground\nDate:             Saturday\, 7/13/2019\nViewing at 9:00 PM\, Sunset at 8:03 PM \nPlace:           San Mateo Campground\nAddress:       830 Cristianitos Rd; San Clemente\nLocation:       33°24’18″N\, 117°35’04″W \nDirections:   Take CA-55 south to the I-5. Take the I-5 South toward San Diego – go 30.8 mi. Take the Cristianitos Rd exit; go 0.2 mi. Turn left on Cristianitos Rd – go 0.9 mi. Turn right after entering park and go a half mile to the parking lot on right (just below the amphitheater). \nViews: 34
URL:https://www.ocastronomers.org/calendar/private-outreach-san-mateo-campground-2/
LOCATION:San Mateo Campground\, 830 Cristianitos Rd\, San Clemente\, CA\, 92672\, United States
CATEGORIES:Outreach,Private
END:VEVENT
BEGIN:VEVENT
DTSTART;TZID=America/Los_Angeles:20190720T210000
DTEND;TZID=America/Los_Angeles:20190720T223000
DTSTAMP:20260423T184426
CREATED:20190209T232021Z
LAST-MODIFIED:20190209T232021Z
UID:10000865-1563656400-1563661800@www.ocastronomers.org
SUMMARY:Private Outreach - Shipley Nature Center
DESCRIPTION:Event:           Shipley Nature Center\nDate:             Saturday\, 7/20/2019\nViewing at 9:00 PM\, Sunset at 8:03 PM \nPlace:           Held at Central Park\nAddress:       17851 Goldenwest; Huntington Beach\nLocation:       33°42’11″N\, 118°00’33″W \nDirections:   Take CA-55 S to I-405 N. Slight left at I-405 N; go 7.0 mi. Take exit 15 for Warner Ave toward Magnolia St; go 0.2 mi. Keep right at the fork and merge onto Warner Ave; go 1.5 mi. Turn left at Beach Blvd/CA-39; go 0.5 mi. Turn right at Slater Ave; go 1.0 mi. Turn left at Goldenwest St; go 0.3 mi. Park is on the right. Drive into park and then down the path on the north side of the park. \nViews: 34
URL:https://www.ocastronomers.org/calendar/private-outreach-shipley-nature-center/
LOCATION:Shipley Nature Center\, 17851 Goldenwest\, Huntington Beach\, CA\, 92647\, United States
CATEGORIES:Outreach
END:VEVENT
BEGIN:VEVENT
DTSTART;TZID=America/Los_Angeles:20190727T210000
DTEND;TZID=America/Los_Angeles:20190727T223000
DTSTAMP:20260423T184426
CREATED:20190623T211516Z
LAST-MODIFIED:20190623T211516Z
UID:10000916-1564261200-1564266600@www.ocastronomers.org
SUMMARY:Private Outreach - Cub Scout Pack 800 Campout
DESCRIPTION:Event:           Cub Scout Pack 800 Campout\nDate:             Saturday\, 7/27/2019\nViewing at 9:00 PM\, Sunset at 7:57 PM \nPlace:           Cub Scout Pack 800 Campout\nAddress:       25100 Earhart Rd; Laguna Hills\nLocation:       33°35’44″N\, 117°41’31″W \nDirections:    Event held at Lomarena Elementary School. Take the CA-55 South to the I-5.  Take the I-5 South towards San Diego – go 13 mi.  Take the Alicia Pkwy exit.  Turn right on Alicia Pky – go 0.6 mi.  Turn left on Wilkes Pl – go < 0.1 mi.  Turn left on Barents – go 0.1 mi.  Turn right on Earhart Rd. \nViews: 34
URL:https://www.ocastronomers.org/calendar/private-outreach-cub-scout-pack-800-campout/
LOCATION:Lomarena Elementary\, 25100 Earhart Rd\, Laguna Hills\, CA\, 92653\, United States
CATEGORIES:Outreach,Private
END:VEVENT
END:VCALENDAR