BEGIN:VCALENDAR
VERSION:2.0
PRODID:-//Orange County Astronomers - ECPv6.15.20//NONSGML v1.0//EN
CALSCALE:GREGORIAN
METHOD:PUBLISH
X-WR-CALNAME:Orange County Astronomers
X-ORIGINAL-URL:https://www.ocastronomers.org
X-WR-CALDESC:Events for Orange County Astronomers
REFRESH-INTERVAL;VALUE=DURATION:PT1H
X-Robots-Tag:noindex
X-PUBLISHED-TTL:PT1H
BEGIN:VTIMEZONE
TZID:America/Los_Angeles
BEGIN:DAYLIGHT
TZOFFSETFROM:-0800
TZOFFSETTO:-0700
TZNAME:PDT
DTSTART:20180311T100000
END:DAYLIGHT
BEGIN:STANDARD
TZOFFSETFROM:-0700
TZOFFSETTO:-0800
TZNAME:PST
DTSTART:20181104T090000
END:STANDARD
BEGIN:DAYLIGHT
TZOFFSETFROM:-0800
TZOFFSETTO:-0700
TZNAME:PDT
DTSTART:20190310T100000
END:DAYLIGHT
BEGIN:STANDARD
TZOFFSETFROM:-0700
TZOFFSETTO:-0800
TZNAME:PST
DTSTART:20191103T090000
END:STANDARD
BEGIN:DAYLIGHT
TZOFFSETFROM:-0800
TZOFFSETTO:-0700
TZNAME:PDT
DTSTART:20200308T100000
END:DAYLIGHT
BEGIN:STANDARD
TZOFFSETFROM:-0700
TZOFFSETTO:-0800
TZNAME:PST
DTSTART:20201101T090000
END:STANDARD
END:VTIMEZONE
BEGIN:VEVENT
DTSTART;TZID=America/Los_Angeles:20190503T193000
DTEND;TZID=America/Los_Angeles:20190503T213000
DTSTAMP:20260423T212350
CREATED:20190110T082346Z
LAST-MODIFIED:20190111T043118Z
UID:10000712-1556911800-1556919000@www.ocastronomers.org
SUMMARY:Beginner’s Class
DESCRIPTION:7:30:00 PM – 9:30:00 PM The 3rd session of the Beginners Astronomy Class covers different ways of finding what’s up in the night sky. Special topic is learning the constellations. The Beginners Astronomy Class is held at the Heritage Museum of Orange County in Santa Ana. For details\, please see the webpage on the Beginners Class\, under “About OCA” and “Special Interest Groups”. Download the sample information package. Free and open to the public as well as members of OCA. Note: All who attend are invited to one of our monthly OC star parties as our guest. More \nViews: 34
URL:https://www.ocastronomers.org/calendar/beginners-class-3/
CATEGORIES:Outreach
END:VEVENT
BEGIN:VEVENT
DTSTART;TZID=America/Los_Angeles:20190503T204500
DTEND;TZID=America/Los_Angeles:20190503T220000
DTSTAMP:20260423T212350
CREATED:20190128T173849Z
LAST-MODIFIED:20190128T173849Z
UID:10000854-1556916300-1556920800@www.ocastronomers.org
SUMMARY:Private Outreach - Girl Scout Troop 103
DESCRIPTION:Views: 34
URL:https://www.ocastronomers.org/calendar/private-outreach-girl-scout-troop-103/
LOCATION:Vessels Elementary School\, 5900 Cathy Ave\, Cypress\, CA\, 90630\, United States
CATEGORIES:Outreach,Private
END:VEVENT
END:VCALENDAR