BEGIN:VCALENDAR
VERSION:2.0
PRODID:-//Orange County Astronomers - ECPv6.15.20//NONSGML v1.0//EN
CALSCALE:GREGORIAN
METHOD:PUBLISH
X-ORIGINAL-URL:https://www.ocastronomers.org
X-WR-CALDESC:Events for Orange County Astronomers
REFRESH-INTERVAL;VALUE=DURATION:PT1H
X-Robots-Tag:noindex
X-PUBLISHED-TTL:PT1H
BEGIN:VTIMEZONE
TZID:America/Los_Angeles
BEGIN:DAYLIGHT
TZOFFSETFROM:-0800
TZOFFSETTO:-0700
TZNAME:PDT
DTSTART:20180311T100000
END:DAYLIGHT
BEGIN:STANDARD
TZOFFSETFROM:-0700
TZOFFSETTO:-0800
TZNAME:PST
DTSTART:20181104T090000
END:STANDARD
BEGIN:DAYLIGHT
TZOFFSETFROM:-0800
TZOFFSETTO:-0700
TZNAME:PDT
DTSTART:20190310T100000
END:DAYLIGHT
BEGIN:STANDARD
TZOFFSETFROM:-0700
TZOFFSETTO:-0800
TZNAME:PST
DTSTART:20191103T090000
END:STANDARD
BEGIN:DAYLIGHT
TZOFFSETFROM:-0800
TZOFFSETTO:-0700
TZNAME:PDT
DTSTART:20200308T100000
END:DAYLIGHT
BEGIN:STANDARD
TZOFFSETFROM:-0700
TZOFFSETTO:-0800
TZNAME:PST
DTSTART:20201101T090000
END:STANDARD
END:VTIMEZONE
BEGIN:VEVENT
DTSTART;TZID=America/Los_Angeles:20190201T190000
DTEND;TZID=America/Los_Angeles:20190201T210000
DTSTAMP:20260424T020753
CREATED:20190110T053600Z
LAST-MODIFIED:20190131T180944Z
UID:10000665-1549047600-1549054800@www.ocastronomers.org
SUMMARY:Private Outreach - Cancelled
DESCRIPTION:Event: Brywood Elementary School\nDate: Friday\, 2/1/2019\nViewing at 7:00 PM\, Sunset at 5:22 PM \nPlace: Brywood Elementary School\nAddress: 1 Westwood; Irvine\nLocation: 33°42’43″N\, 117°46’25″W \nDirections: Take CA-55 South to I-5 South. Take exit 11A to merge onto I-5 South; go 4.0 mi. Take exit 99 for Culver Dr; go 0.4 mi. Turn left at Culver Dr; go 0.6 mi. Turn right at Bryan Ave; go 0.4 mi. Turn right at Westwood. School is on the right.\nBeginner’s Class\n7:30:00 PM – 9:30:00 PM\n7:30:00 AM – 9:30:00 AM The 6th session of the Beginners Astronomy Class covers covers the basics of astrophotography\, covering different types of imaging\, how different types of cameras are used for this kind of photography\, and other equipment and considerations for taking a good picture. This session is taught by Kyle Coker\, who is active in the club�s AstroImaging section. The Beginners Astronomy Class is held at the Heritage Museum of Orange County in Santa Ana. For details\, please see the webpage on the Beginners Class\, under “About OCA” and “Special Interest Groups”. Download the sample information package. Free and open to the public as well as members of OCA. Note: All who attend are invited to one of our monthly OC star parties as our guest. More \nViews: 34
URL:https://www.ocastronomers.org/calendar/private-outreach-brywood-elementary-school/
LOCATION:Beatty Elementary School\, 8201 Country Club Dr\, Buena Park\, CA\, 90621\, United States
CATEGORIES:Outreach
ATTACH;FMTTYPE=image/jpeg:https://www.ocastronomers.org/wp-content/uploads/2019/01/Brywood-Elementary-School.jpg
END:VEVENT
BEGIN:VEVENT
DTSTART;TZID=America/Los_Angeles:20190201T193000
DTEND;TZID=America/Los_Angeles:20190201T213000
DTSTAMP:20260424T020753
CREATED:20190110T144331Z
LAST-MODIFIED:20190111T043118Z
UID:10000851-1549049400-1549056600@www.ocastronomers.org
SUMMARY:Beginner’s Class
DESCRIPTION:7:30:00 AM – 9:30:00 AM The 6th session of the Beginners Astronomy Class covers covers the basics of astrophotography\, covering different types of imaging\, how different types of cameras are used for this kind of photography\, and other equipment and considerations for taking a good picture. This session is taught by Kyle Coker\, who is active in the club�s AstroImaging section. The Beginners Astronomy Class is held at the Heritage Museum of Orange County in Santa Ana. For details\, please see the webpage on the Beginners Class\, under “About OCA” and “Special Interest Groups”. Download the sample information package. Free and open to the public as well as members of OCA. Note: All who attend are invited to one of our monthly OC star parties as our guest. \nViews: 34
URL:https://www.ocastronomers.org/calendar/beginners-class-10/
CATEGORIES:Outreach
END:VEVENT
BEGIN:VEVENT
DTSTART;TZID=America/Los_Angeles:20190204T190000
DTEND;TZID=America/Los_Angeles:20190204T210000
DTSTAMP:20260424T020753
CREATED:20190110T055516Z
LAST-MODIFIED:20190202T014632Z
UID:10000672-1549306800-1549314000@www.ocastronomers.org
SUMMARY:Private Outreach - Cancelled
DESCRIPTION:Event: Bonita Canyon Elementary\nDate: Monday\, 2/4/2019\nViewing at 7:00 PM\, Sunset at 5:25 PM \nPlace: Bonita Canyon Elementary\nAddress: 1 Sundance Drive; Irvine\nLocation: 33°38’02″N\, 117°48’47″W \nDirections: Take the CA-55 south exit towards Costa Mesa Fwy/Newport Beach. Take the I-405 south and exit on Culver D. Turn right on Culver Dr and go 1.4 mi. Turn left on Campus Dr – go 0.4 mi. Turn right on Turtle Rock Dr – go 1.6 mi. Turn left on Sundance. \nViews: 34
URL:https://www.ocastronomers.org/calendar/private-outreach-bonita-canyon-elementary/
LOCATION:Bonita Canyon Elementary\, 1 Sundance Dr\, Irvine\, CA\, 92603\, United States
CATEGORIES:Outreach
ATTACH;FMTTYPE=image/png:https://www.ocastronomers.org/wp-content/uploads/2019/01/Bonita-Canyon-Elementary.png
END:VEVENT
BEGIN:VEVENT
DTSTART;TZID=America/Los_Angeles:20190205T190000
DTEND;TZID=America/Los_Angeles:20190205T210000
DTSTAMP:20260424T020753
CREATED:20190110T061105Z
LAST-MODIFIED:20190204T000044Z
UID:10000675-1549393200-1549400400@www.ocastronomers.org
SUMMARY:Private Outreach - Cancelled
DESCRIPTION:Event: Olive Elementary School\nDate: Tuesday\, 2/5/2019\nViewing at 7:00 PM\, Sunset at 5:26 PM \nPlace: Olive Elementary School\nAddress: 3038 N Magnolia Avenue; Orange\nLocation: 33°50’24″N\, 117°50’39″W \nDirections: Merge onto I-5 N; go 2.5 mi. Take exit 103A for CA-55 N; go 0.2 mi. Keep left and merge onto CA-55 N; go 6.2 mi. Take exit 17 toward Nohl Ranch Rd/Lincoln Ave; go 0.2 mi. Turn left onto N Santiago Blvd. Turn left at the 1st cross street onto E Lincoln Ave; go 0.7 mi. Turn right onto N Olive Ave; go .02 mi. Stay on Olive past Buena Vista Ave and just before the turn onto Orange-Olive\, turn right through the school gate and go right onto the basketball courts for telescope set-up. \nViews: 34
URL:https://www.ocastronomers.org/calendar/private-outreach-olive-elementary-school/
LOCATION:Olive Elementary School\, 3038 Magnolia Ave\, Orange\, CA\, 92865\, United States
CATEGORIES:Outreach
ATTACH;FMTTYPE=image/jpeg:https://www.ocastronomers.org/wp-content/uploads/2019/01/Olive-Elementary-School.jpg
END:VEVENT
BEGIN:VEVENT
DTSTART;TZID=America/Los_Angeles:20190206T190000
DTEND;TZID=America/Los_Angeles:20190206T210000
DTSTAMP:20260424T020753
CREATED:20190110T062324Z
LAST-MODIFIED:20190110T062324Z
UID:10000680-1549479600-1549486800@www.ocastronomers.org
SUMMARY:Private Outreach - Northwood High School
DESCRIPTION:7:00:00 PM – 9:00:00 PM\nEvent: Northwood High School\nDate: Wednesday\, 2/6/2019\nViewing at 7:00 PM\, Sunset at 5:27 PM \nPlace: Northwood High School\nAddress: 4515 Portola Pkwy; Irvine\nLocation: 33°44’04″N\, 117°44’57″W \nDirections: Merge onto CA-91 E/Riverside Fwy toward Riverside; go 1.1 mi. Take exit 40 for California 241 South Toll toward Irvine; go 1.0 mi. Continue onto CA-241 S; go 5.8 mi. Keep right at the fork to continue on CA-261 S\, follow signs for California 261 Toll S/Irvine; go 3.1 mi. Take exit 3 for Portola Pkwy; go 0.4 mi. Turn left onto Portola Pkwy; go 1.4 mi. Turn left onto Yale; go 0.3 mi. Turn left. Turn right. Turn left. School is on the right. \nViews: 34
URL:https://www.ocastronomers.org/calendar/private-outreach-northwood-high-school/
LOCATION:Northwood High School\, 4515 Portola Pkwy\, Irvine\, CA\, 92620\, United States
CATEGORIES:Outreach
ATTACH;FMTTYPE=image/png:https://www.ocastronomers.org/wp-content/uploads/2019/01/Northwood-High-School.png
END:VEVENT
BEGIN:VEVENT
DTSTART;TZID=America/Los_Angeles:20190207T190000
DTEND;TZID=America/Los_Angeles:20190207T210000
DTSTAMP:20260424T020753
CREATED:20190110T063647Z
LAST-MODIFIED:20190110T063647Z
UID:10000684-1549566000-1549573200@www.ocastronomers.org
SUMMARY:Private Outreach - Rose Drive Elementary
DESCRIPTION:Event: Rose Drive Elementary\nDate: Thursday\, 2/7/2019\nViewing at 7:00 PM\, Sunset at 5:28 PM \nPlace: Rose Drive Elementary\nAddress: 4700 Rose Drive; Yorba Linda\nLocation: 33°53’32″N\, 117°50’27″W \nDirections: Take the 55 Fwy North to the 91 Fwy West. Exit immediately at N. Tustin. Turn right (north) on Tustin 2.8 miles. Tustin turns into Rose Drive. The school is about 0.3 miles north of Yorba Linda Blvd. Turn right at driveway on the south side of the school. \nViews: 34
URL:https://www.ocastronomers.org/calendar/private-outreach-rose-drive-elementary/
LOCATION:Rose Drive Elementary\, 4700 N Rose Dr\, Yorba Linda\, CA\, 92886\, United States
CATEGORIES:Outreach
ATTACH;FMTTYPE=image/jpeg:https://www.ocastronomers.org/wp-content/uploads/2019/01/Rose-Drive-Elementary.jpg
END:VEVENT
BEGIN:VEVENT
DTSTART;TZID=America/Los_Angeles:20190211T190000
DTEND;TZID=America/Los_Angeles:20190211T210000
DTSTAMP:20260424T020753
CREATED:20190110T064441Z
LAST-MODIFIED:20190110T073803Z
UID:10000691-1549911600-1549918800@www.ocastronomers.org
SUMMARY:Private Outreach - Lomarena Elementary
DESCRIPTION:Event: Lomarena Elementary\nDate: Monday\, 2/11/2019\nViewing at 7:00 PM\, Sunset at 5:31 PM \nPlace: Lomarena Elementary\nAddress: 25100 Earhart Rd; Laguna Hills\nLocation: 33°35’42″N\, 117°41’36″W \nDirections: Take the CA-55 South to the I-5. Take the I-5 South towards San Diego – go 13 mi. Take the Alicia Pkwy exit. Turn right on Alicia Pky – go 0.6 mi. Turn left on Wilkes Pl – go < 0.1 mi. Turn left on Barents – go 0.1 mi. Turn right on Earhart Rd. \nViews: 34
URL:https://www.ocastronomers.org/calendar/private-outreach-lomarena-elementary/
LOCATION:Lomarena Elementary\, 25100 Earhart Rd\, Laguna Hills\, CA\, 92653\, United States
CATEGORIES:Outreach
ATTACH;FMTTYPE=image/png:https://www.ocastronomers.org/wp-content/uploads/2019/01/Lomarena-Elementary.png
END:VEVENT
BEGIN:VEVENT
DTSTART;TZID=America/Los_Angeles:20190212T190000
DTEND;TZID=America/Los_Angeles:20190212T210000
DTSTAMP:20260424T020753
CREATED:20190110T065922Z
LAST-MODIFIED:20190212T165036Z
UID:10000695-1549998000-1550005200@www.ocastronomers.org
SUMMARY:Private Outreach - Cancelled
DESCRIPTION:Event: Heritage STEAM Elementary\nDate: Tuesday\, 2/12/2019\nViewing at 7:00 PM\, Sunset at 5:33 PM \nPlace: Heritage STEAM Elementary\nAddress: 15400 Lansdowne Rd; Tustin\nLocation: 33°43’05″N\, 117°49’45″W \nDirections: Take CA-55 South towards Costa Mesa\, 4 mi. Take exit 9 for Edinger Ave. Use Right two lanes to turn onto E Edinger Ave\, .7 mi. Turn Right onto Redhill Ave\, .4 mi. Turn Left onto Valencia Ave and make another immediate Left onto Lansdowne Rd. School will be in front of you. \nViews: 34
URL:https://www.ocastronomers.org/calendar/private-outreach-heritage-steam-elementary/
LOCATION:Heritage STEAM Elementary\, 15400 Lansdowne Rd\, Tustin\, CO\, 92782\, United States
CATEGORIES:Outreach
ATTACH;FMTTYPE=image/jpeg:https://www.ocastronomers.org/wp-content/uploads/2019/01/Heritage-STEAM-Elementary.jpg
END:VEVENT
BEGIN:VEVENT
DTSTART;TZID=America/Los_Angeles:20190213T190000
DTEND;TZID=America/Los_Angeles:20190213T210000
DTSTAMP:20260424T020753
CREATED:20190110T070604Z
LAST-MODIFIED:20190212T165050Z
UID:10000697-1550084400-1550091600@www.ocastronomers.org
SUMMARY:Private Outreach - Cancelled
DESCRIPTION:Event: Library of the Canyons\nDate: Wednesday\, 2/13/2019\nViewing at 7:00 PM\, Sunset at 5:33 PM \nPlace: Library of the Canyons\nAddress: 7531 Santiago Canyon Rd; Silverado\nLocation: 33°44’38″N\, 117°40’03″W \nDirections: Take CA-55 north towards the 91. Take the exit East Chapman Ave and continue on Chapman as it becomes E. Santiago Canyon Rd\, 5.5 mi. Keep Left to stay on E Santiago Canyon Rd\, 6.5 mi. The library will come up on the left hand side after the Silverado Children’s Center. \nViews: 34
URL:https://www.ocastronomers.org/calendar/private-outreach-library-of-the-canyons/
CATEGORIES:Outreach
ATTACH;FMTTYPE=image/jpeg:https://www.ocastronomers.org/wp-content/uploads/2019/01/Library-of-the-Canyons.jpg
END:VEVENT
BEGIN:VEVENT
DTSTART;TZID=America/Los_Angeles:20190221T190000
DTEND;TZID=America/Los_Angeles:20190221T210000
DTSTAMP:20260424T020753
CREATED:20190110T144803Z
LAST-MODIFIED:20190131T180902Z
UID:10000852-1550775600-1550782800@www.ocastronomers.org
SUMMARY:Private Outreach - Cancelled
DESCRIPTION:Event: Vista Verde K-8 School\nDate: Thursday\, 2/21/2019\nViewing at 7:00 PM\, Sunset at 5:41 PM \nPlace: Vista Verde K-8 School\nAddress: 6 Federation Way; Irvine\nLocation: 33°37’51″N\, 117°49’38″W \nDirections: Take CA-55 South towards Costa Mesa. Take exit 6B for 405 South/San Diego Fwy and take the exit for Culver Drive\, 10.5 mi. Turn Right at the light onto Culver Drive. Continue on Culver for 2.3 mi – it will become Bonita Canyon Drive after you’ve passed UCI. Turn Left on to Turtle Ridge Drive and then turn Left again onto Federation Way. School will be on the Right. \nViews: 34
URL:https://www.ocastronomers.org/calendar/private-outreach-vista-verde-k-8-school-2/
LOCATION:Vista Verde K-8 School\, 6 Federation Way\, Irvine\, CA\, 92603\, United States
CATEGORIES:Outreach
ATTACH;FMTTYPE=image/jpeg:https://www.ocastronomers.org/wp-content/uploads/2019/01/Vista-Verde-K-8-School.jpg
END:VEVENT
BEGIN:VEVENT
DTSTART;TZID=America/Los_Angeles:20190222T190000
DTEND;TZID=America/Los_Angeles:20190222T210000
DTSTAMP:20260424T020753
CREATED:20190110T073320Z
LAST-MODIFIED:20190219T225250Z
UID:10000700-1550862000-1550869200@www.ocastronomers.org
SUMMARY:Private Outreach - Canceled
DESCRIPTION:Event: Oxford Prep Academy Saddleback Valley\nDate: Friday\, 2/22/2019\nViewing at 7:00 PM\, Sunset at 5:41 PM \nPlace: Oxford Prep Academy Saddleback Valley\nAddress: 22882 Loumont Dr; Lake Forest\nLocation: 33°37’43″N\, 117°42’03″W \nDirections: Take CA-55 South towards Costa Mesa. Take the exit for I-5 South towards San Diego; merge onto I-5 South\, 8 mi. Use the Right two lanes to take exit 92 for Bake Parkway\, 1mi. Turn Left onto Bake Parkway\, 1 mi. Turn Right onto Muirlands Blvd\, 1 mi. Turn Left onto Loumont Drive. Turn Left onto Corta Cresta Drive which then turns right and becomes Costa Bella. Turn Right onto Blackfoot Drive. Turn Left onto Loumount Drive. School will be on your Right. \nViews: 34
URL:https://www.ocastronomers.org/calendar/private-outreach-oxford-prep-academy/
LOCATION:Oxford Prep Academy Saddleback Valley\, 22882 Loumont Dr\, Lake Forest\, CA\, 92630\, United States
CATEGORIES:Outreach
ATTACH;FMTTYPE=image/png:https://www.ocastronomers.org/wp-content/uploads/2019/01/Oxford-Prep-Academy-Saddleback-Valley.png
END:VEVENT
BEGIN:VEVENT
DTSTART;TZID=America/Los_Angeles:20190223T190000
DTEND;TZID=America/Los_Angeles:20190223T210000
DTSTAMP:20260424T020753
CREATED:20190110T074437Z
LAST-MODIFIED:20190223T203455Z
UID:10000701-1550948400-1550955600@www.ocastronomers.org
SUMMARY:Private Outreach - Cancelled
DESCRIPTION:Event: Yorba Linda Public Library\nDate: Saturday\, 2/23/2019\nViewing at 7:00 PM\, Sunset at 5:43 PM \nPlace: Yorba Linda Public Library\nAddress: 18181 Imperial Highway; Yorba Linda\nLocation: 33°53’28″N\, 117°48’54″W \nDirections: Take CA-55 N towards the CA-91. Merge onto CA-91 E\, 1.9 mi. Use Right two lanes to take exit 36 for Imperial Hwy/ CA-90. Use Left two lanes to turn Left onto CA-90/N Imperial Hwy\, 3.2 mi. Library will be located on right hand side. \nViews: 34
URL:https://www.ocastronomers.org/calendar/private-outreach-yorba-linda-public-library/
LOCATION:Yorba Linda Public Library\, 18181 Imperial Hwy\, Yorba Linda\, CA\, 92886\, United States
CATEGORIES:Outreach
ATTACH;FMTTYPE=image/png:https://www.ocastronomers.org/wp-content/uploads/2019/01/Yorba-Linda-Public-Library.png
END:VEVENT
BEGIN:VEVENT
DTSTART;TZID=America/Los_Angeles:20190225T190000
DTEND;TZID=America/Los_Angeles:20190225T210000
DTSTAMP:20260424T020753
CREATED:20190110T074952Z
LAST-MODIFIED:20190225T223250Z
UID:10000702-1551121200-1551128400@www.ocastronomers.org
SUMMARY:Private Outreach - Alderwood Elementary School
DESCRIPTION:Event: Alderwood Elementary School\nDate: Monday\, 2/25/2019\nViewing at 7:00 PM\, Sunset at 5:44 PM \nPlace: Alderwood Elementary School\nAddress: 2005 Knollcrest; Irvine\nLocation: 33°38’56″N\, 117°46’31″W \nDirections: Take CA-55 South to I-5 South. Take exit 11A to merge onto I-5 S; go 7.5 mi. Take exit 95 and merge onto CA-133 S; go 1.4 mi. Turn right onto Laguna Canyon Rd; go 0.5 mi. At the traffic circle\, take the 2nd exit onto Quail Hill; go 0.3 mi. Turn left onto Knollcrest; go 0.4 mi. School is on the right. Go through the gate at the North end of the parking lot to enter the blacktop area behind the school. The viewing location is on the basketball courts past the volleyball posts. \nViews: 34
URL:https://www.ocastronomers.org/calendar/private-outreach-alderwood-elementary-school/
LOCATION:Alderwood Elementary School\, 2005 Knollcrest\, Irvine\, CA\, 92604\, United States
CATEGORIES:Outreach
ATTACH;FMTTYPE=image/png:https://www.ocastronomers.org/wp-content/uploads/2019/01/Alderwood-Elementary-School.png
END:VEVENT
BEGIN:VEVENT
DTSTART;TZID=America/Los_Angeles:20190226T190000
DTEND;TZID=America/Los_Angeles:20190226T210000
DTSTAMP:20260424T020753
CREATED:20190110T075734Z
LAST-MODIFIED:20190225T223154Z
UID:10000705-1551207600-1551214800@www.ocastronomers.org
SUMMARY:Private Outreach - Cancelled
DESCRIPTION:7:00:00 PM – 9:00:00 PM\nEvent: Buena Park Junior High\nDate: Tuesday\, 2/26/2019\nViewing at 7:00 PM\, Sunset at 5:46 PM \nPlace: Buena Park Junior High\nAddress: 6931 Orangethorpe Ave; Buena Park\nLocation: 33°51’41″N\, 118°00’46″W \nDirections: Take CA-55 or CA-57 to CA-91. Take CA-91 west toward LA. Take the Knott Ave exit- Turn right onto Knott Ave. go 0.1 mi. Turn left onto Orangethorpe Ave. go <0.1 mi. \nViews: 34
URL:https://www.ocastronomers.org/calendar/private-outreach-buena-park-junior-high/
LOCATION:Buena Park Junior High\, 6931 Orangethorpe Ave\, Buena Park\, CA\, 90620\, United States
CATEGORIES:Outreach
ATTACH;FMTTYPE=image/jpeg:https://www.ocastronomers.org/wp-content/uploads/2019/01/Buena-Park-Junior-High.jpg
END:VEVENT
BEGIN:VEVENT
DTSTART;TZID=America/Los_Angeles:20190227T190000
DTEND;TZID=America/Los_Angeles:20190227T210000
DTSTAMP:20260424T020753
CREATED:20190110T080525Z
LAST-MODIFIED:20190110T080525Z
UID:10000708-1551294000-1551301200@www.ocastronomers.org
SUMMARY:Private Outreach - Guin Foss Elementary
DESCRIPTION:Event: Guin Foss Elementary\nDate: Wednesday\, 2/27/2019\nViewing at 7:00 PM\, Sunset at 5:46 PM \nPlace: Guin Foss Elementary\nAddress: 18492 Vanderlip Ave; Tustin\nLocation: 33°45’21″N\, 117°48’40″W \nDirections: Take CA-55 South towards Costa Mesa and take exit 12A to merge onto 17th St\, 1.2 mi. Turn Right onto Holt Ave\, 0.2 mi. Turn Left onto Vanderlip Ave. School will be on your Right. \nViews: 34
URL:https://www.ocastronomers.org/calendar/private-outreach-guin-foss-elementary/
LOCATION:Guin Foss Elementary\, 18492 Vanderlip Ave\, Santa Ana\, CA\, 92705\, United States
CATEGORIES:Outreach
ATTACH;FMTTYPE=image/jpeg:https://www.ocastronomers.org/wp-content/uploads/2019/01/Guin-Foss-Elementary.jpg
END:VEVENT
BEGIN:VEVENT
DTSTART;TZID=America/Los_Angeles:20190228T190000
DTEND;TZID=America/Los_Angeles:20190228T210000
DTSTAMP:20260424T020753
CREATED:20190110T081859Z
LAST-MODIFIED:20190110T081859Z
UID:10000710-1551380400-1551387600@www.ocastronomers.org
SUMMARY:Private Outreach - Warren Elementary
DESCRIPTION:Event: Warren Elementary\nDate: Thursday\, 2/28/2019\nViewing at 7:00 PM\, Sunset at 5:47 PM \nPlace: Warren Elementary\nAddress: 12871 Estock Dr.; Garden Grove\nLocation: 33°47’08″N\, 117°54’36″W \nDirections: Take the CA-55 S to the CA-22 Freeway. Go west on CA-22 to Haster (4.2 miles). Turn right onto Haster St. and go 0.5 miles. Turn left onto Twintree Ln. and go 0.1 miles. Turn right onto Sungrove St. and then turn left onto Estock Dr. \nViews: 34
URL:https://www.ocastronomers.org/calendar/private-outreach-warren-elementary/
LOCATION:Warren Elementary\, 141 Weiss Rd\, St Peters\, MO\, 63376\, United States
CATEGORIES:Outreach
ATTACH;FMTTYPE=image/png:https://www.ocastronomers.org/wp-content/uploads/2019/01/Warren-Elementary.png
END:VEVENT
END:VCALENDAR