BEGIN:VCALENDAR
VERSION:2.0
PRODID:-//Orange County Astronomers - ECPv6.15.20//NONSGML v1.0//EN
CALSCALE:GREGORIAN
METHOD:PUBLISH
X-ORIGINAL-URL:https://www.ocastronomers.org
X-WR-CALDESC:Events for Orange County Astronomers
REFRESH-INTERVAL;VALUE=DURATION:PT1H
X-Robots-Tag:noindex
X-PUBLISHED-TTL:PT1H
BEGIN:VTIMEZONE
TZID:America/Los_Angeles
BEGIN:DAYLIGHT
TZOFFSETFROM:-0800
TZOFFSETTO:-0700
TZNAME:PDT
DTSTART:20180311T100000
END:DAYLIGHT
BEGIN:STANDARD
TZOFFSETFROM:-0700
TZOFFSETTO:-0800
TZNAME:PST
DTSTART:20181104T090000
END:STANDARD
BEGIN:DAYLIGHT
TZOFFSETFROM:-0800
TZOFFSETTO:-0700
TZNAME:PDT
DTSTART:20190310T100000
END:DAYLIGHT
BEGIN:STANDARD
TZOFFSETFROM:-0700
TZOFFSETTO:-0800
TZNAME:PST
DTSTART:20191103T090000
END:STANDARD
BEGIN:DAYLIGHT
TZOFFSETFROM:-0800
TZOFFSETTO:-0700
TZNAME:PDT
DTSTART:20200308T100000
END:DAYLIGHT
BEGIN:STANDARD
TZOFFSETFROM:-0700
TZOFFSETTO:-0800
TZNAME:PST
DTSTART:20201101T090000
END:STANDARD
END:VTIMEZONE
BEGIN:VEVENT
DTSTART;TZID=America/Los_Angeles:20190702T000000
DTEND;TZID=America/Los_Angeles:20190702T000000
DTSTAMP:20260421T031150
CREATED:20190110T085226Z
LAST-MODIFIED:20190110T085226Z
UID:10000728-1562025600-1562025600@www.ocastronomers.org
SUMMARY:New Moon
DESCRIPTION:Views: 2
URL:https://www.ocastronomers.org/calendar/new-moon-7/
LOCATION:CA
CATEGORIES:Moon
ATTACH;FMTTYPE=image/png:https://www.ocastronomers.org/wp-content/uploads/2019/01/new-moon-2.png
END:VEVENT
BEGIN:VEVENT
DTSTART;TZID=America/Los_Angeles:20190709T000000
DTEND;TZID=America/Los_Angeles:20190709T000000
DTSTAMP:20260421T031150
CREATED:20190110T085744Z
LAST-MODIFIED:20190110T085744Z
UID:10000730-1562630400-1562630400@www.ocastronomers.org
SUMMARY:1st Qtr Moon
DESCRIPTION:Views: 2
URL:https://www.ocastronomers.org/calendar/1st-qtr-moon-7/
LOCATION:CA
CATEGORIES:Moon
ATTACH;FMTTYPE=image/png:https://www.ocastronomers.org/wp-content/uploads/2019/01/1st-Qtr-Moon-3.png
END:VEVENT
BEGIN:VEVENT
DTSTART;TZID=America/Los_Angeles:20190716T000000
DTEND;TZID=America/Los_Angeles:20190716T000000
DTSTAMP:20260421T031150
CREATED:20190110T090734Z
LAST-MODIFIED:20190110T090734Z
UID:10000732-1563235200-1563235200@www.ocastronomers.org
SUMMARY:Full Moon
DESCRIPTION:Views: 2
URL:https://www.ocastronomers.org/calendar/full-moon-6/
LOCATION:CA
CATEGORIES:Moon
ATTACH;FMTTYPE=image/png:https://www.ocastronomers.org/wp-content/uploads/2019/01/Full-Moon-4.png
END:VEVENT
BEGIN:VEVENT
DTSTART;TZID=America/Los_Angeles:20190724T000000
DTEND;TZID=America/Los_Angeles:20190724T000000
DTSTAMP:20260421T031150
CREATED:20190110T091832Z
LAST-MODIFIED:20190110T091832Z
UID:10000734-1563926400-1563926400@www.ocastronomers.org
SUMMARY:Last Qtr Moon
DESCRIPTION:Views: 2
URL:https://www.ocastronomers.org/calendar/last-qtr-moon-7/
LOCATION:CA
CATEGORIES:Moon
ATTACH;FMTTYPE=image/png:https://www.ocastronomers.org/wp-content/uploads/2019/01/Last-Qtr-Moon-4.png
END:VEVENT
BEGIN:VEVENT
DTSTART;TZID=America/Los_Angeles:20190731T000000
DTEND;TZID=America/Los_Angeles:20190731T000000
DTSTAMP:20260421T031150
CREATED:20190110T092239Z
LAST-MODIFIED:20190110T092239Z
UID:10000737-1564531200-1564531200@www.ocastronomers.org
SUMMARY:New Moon
DESCRIPTION:Views: 2
URL:https://www.ocastronomers.org/calendar/new-moon-8/
LOCATION:CA
CATEGORIES:Moon
ATTACH;FMTTYPE=image/png:https://www.ocastronomers.org/wp-content/uploads/2019/01/new-moon-3.png
END:VEVENT
END:VCALENDAR