BEGIN:VCALENDAR
VERSION:2.0
PRODID:-//Orange County Astronomers - ECPv6.15.20//NONSGML v1.0//EN
CALSCALE:GREGORIAN
METHOD:PUBLISH
X-WR-CALNAME:Orange County Astronomers
X-ORIGINAL-URL:https://www.ocastronomers.org
X-WR-CALDESC:Events for Orange County Astronomers
REFRESH-INTERVAL;VALUE=DURATION:PT1H
X-Robots-Tag:noindex
X-PUBLISHED-TTL:PT1H
BEGIN:VTIMEZONE
TZID:America/Los_Angeles
BEGIN:DAYLIGHT
TZOFFSETFROM:-0800
TZOFFSETTO:-0700
TZNAME:PDT
DTSTART:20180311T100000
END:DAYLIGHT
BEGIN:STANDARD
TZOFFSETFROM:-0700
TZOFFSETTO:-0800
TZNAME:PST
DTSTART:20181104T090000
END:STANDARD
BEGIN:DAYLIGHT
TZOFFSETFROM:-0800
TZOFFSETTO:-0700
TZNAME:PDT
DTSTART:20190310T100000
END:DAYLIGHT
BEGIN:STANDARD
TZOFFSETFROM:-0700
TZOFFSETTO:-0800
TZNAME:PST
DTSTART:20191103T090000
END:STANDARD
BEGIN:DAYLIGHT
TZOFFSETFROM:-0800
TZOFFSETTO:-0700
TZNAME:PDT
DTSTART:20200308T100000
END:DAYLIGHT
BEGIN:STANDARD
TZOFFSETFROM:-0700
TZOFFSETTO:-0800
TZNAME:PST
DTSTART:20201101T090000
END:STANDARD
END:VTIMEZONE
BEGIN:VEVENT
DTSTART;TZID=America/Los_Angeles:20190405T000000
DTEND;TZID=America/Los_Angeles:20190405T000000
DTSTAMP:20260421T072107
CREATED:20190110T054458Z
LAST-MODIFIED:20190110T055213Z
UID:10000669-1554422400-1554422400@www.ocastronomers.org
SUMMARY:New Moon
DESCRIPTION:Views: 2
URL:https://www.ocastronomers.org/calendar/new-moon-3/
LOCATION:CA
CATEGORIES:Moon
ATTACH;FMTTYPE=image/png:https://www.ocastronomers.org/wp-content/uploads/2019/01/new-moon.png
END:VEVENT
BEGIN:VEVENT
DTSTART;TZID=America/Los_Angeles:20190412T000000
DTEND;TZID=America/Los_Angeles:20190412T000000
DTSTAMP:20260421T072107
CREATED:20190110T063918Z
LAST-MODIFIED:20190110T063918Z
UID:10000686-1555027200-1555027200@www.ocastronomers.org
SUMMARY:1st Qtr Moon
DESCRIPTION:Views: 2
URL:https://www.ocastronomers.org/calendar/1st-qtr-moon-3/
LOCATION:CA
CATEGORIES:Moon
ATTACH;FMTTYPE=image/png:https://www.ocastronomers.org/wp-content/uploads/2019/01/1st-Qtr-Moon.png
END:VEVENT
BEGIN:VEVENT
DTSTART;TZID=America/Los_Angeles:20190419T000000
DTEND;TZID=America/Los_Angeles:20190419T000000
DTSTAMP:20260421T072107
CREATED:20190110T064515Z
LAST-MODIFIED:20190110T064515Z
UID:10000692-1555632000-1555632000@www.ocastronomers.org
SUMMARY:Full Moon
DESCRIPTION:Views: 2
URL:https://www.ocastronomers.org/calendar/full-moon-2/
LOCATION:CA
CATEGORIES:Moon
ATTACH;FMTTYPE=image/png:https://www.ocastronomers.org/wp-content/uploads/2019/01/Full-Moon.png
END:VEVENT
BEGIN:VEVENT
DTSTART;TZID=America/Los_Angeles:20190426T000000
DTEND;TZID=America/Los_Angeles:20190426T000000
DTSTAMP:20260421T072107
CREATED:20190110T064801Z
LAST-MODIFIED:20190110T064801Z
UID:10000694-1556236800-1556236800@www.ocastronomers.org
SUMMARY:Last Qtr Moon
DESCRIPTION:Views: 2
URL:https://www.ocastronomers.org/calendar/last-qtr-moon-2/
LOCATION:CA
CATEGORIES:Moon
ATTACH;FMTTYPE=image/png:https://www.ocastronomers.org/wp-content/uploads/2019/01/Last-Qtr-Moon.png
END:VEVENT
END:VCALENDAR