BEGIN:VCALENDAR
VERSION:2.0
PRODID:-//Orange County Astronomers - ECPv6.15.20//NONSGML v1.0//EN
CALSCALE:GREGORIAN
METHOD:PUBLISH
X-WR-CALNAME:Orange County Astronomers
X-ORIGINAL-URL:https://www.ocastronomers.org
X-WR-CALDESC:Events for Orange County Astronomers
REFRESH-INTERVAL;VALUE=DURATION:PT1H
X-Robots-Tag:noindex
X-PUBLISHED-TTL:PT1H
BEGIN:VTIMEZONE
TZID:America/Los_Angeles
BEGIN:DAYLIGHT
TZOFFSETFROM:-0800
TZOFFSETTO:-0700
TZNAME:PDT
DTSTART:20180311T100000
END:DAYLIGHT
BEGIN:STANDARD
TZOFFSETFROM:-0700
TZOFFSETTO:-0800
TZNAME:PST
DTSTART:20181104T090000
END:STANDARD
BEGIN:DAYLIGHT
TZOFFSETFROM:-0800
TZOFFSETTO:-0700
TZNAME:PDT
DTSTART:20190310T100000
END:DAYLIGHT
BEGIN:STANDARD
TZOFFSETFROM:-0700
TZOFFSETTO:-0800
TZNAME:PST
DTSTART:20191103T090000
END:STANDARD
BEGIN:DAYLIGHT
TZOFFSETFROM:-0800
TZOFFSETTO:-0700
TZNAME:PDT
DTSTART:20200308T100000
END:DAYLIGHT
BEGIN:STANDARD
TZOFFSETFROM:-0700
TZOFFSETTO:-0800
TZNAME:PST
DTSTART:20201101T090000
END:STANDARD
END:VTIMEZONE
BEGIN:VEVENT
DTSTART;VALUE=DATE:20190204
DTEND;VALUE=DATE:20190205
DTSTAMP:20260421T101708
CREATED:20181215T164939Z
LAST-MODIFIED:20181215T164939Z
UID:10000656-1549238400-1549324799@www.ocastronomers.org
SUMMARY:New Moon
DESCRIPTION:Views: 2
URL:https://www.ocastronomers.org/calendar/new-moon-2/
LOCATION:CA
CATEGORIES:Moon
ATTACH;FMTTYPE=image/png:https://www.ocastronomers.org/wp-content/uploads/2018/12/oca-claendar-moon-1-new.png
END:VEVENT
BEGIN:VEVENT
DTSTART;VALUE=DATE:20190212
DTEND;VALUE=DATE:20190213
DTSTAMP:20260421T101708
CREATED:20190108T110029Z
LAST-MODIFIED:20190108T110029Z
UID:10000660-1549929600-1550015999@www.ocastronomers.org
SUMMARY:1st Qtr Moon
DESCRIPTION:Views: 2
URL:https://www.ocastronomers.org/calendar/1st-qtr-moon-2/
LOCATION:CA
CATEGORIES:Moon
ATTACH;FMTTYPE=image/png:https://www.ocastronomers.org/wp-content/uploads/2018/12/oca-claendar-moon-2-first-quarter.png
END:VEVENT
BEGIN:VEVENT
DTSTART;TZID=America/Los_Angeles:20190219T000000
DTEND;TZID=America/Los_Angeles:20190219T000000
DTSTAMP:20260421T101708
CREATED:20190110T071713Z
LAST-MODIFIED:20190110T131854Z
UID:10000698-1550534400-1550534400@www.ocastronomers.org
SUMMARY:Full Moon
DESCRIPTION:Views: 2
URL:https://www.ocastronomers.org/calendar/full-moon-3/
LOCATION:CA
CATEGORIES:Moon
ATTACH;FMTTYPE=image/png:https://www.ocastronomers.org/wp-content/uploads/2019/01/Full-Moon-13.png
END:VEVENT
BEGIN:VEVENT
DTSTART;TZID=America/Los_Angeles:20190226T000000
DTEND;TZID=America/Los_Angeles:20190226T000000
DTSTAMP:20260421T101708
CREATED:20190110T075245Z
LAST-MODIFIED:20190110T093243Z
UID:10000703-1551139200-1551139200@www.ocastronomers.org
SUMMARY:Last Qtr Moon
DESCRIPTION:Views: 2
URL:https://www.ocastronomers.org/calendar/last-qtr-moon-3/
LOCATION:CA
CATEGORIES:Moon
ATTACH;FMTTYPE=image/png:https://www.ocastronomers.org/wp-content/uploads/2019/01/Last-Qtr-Moon-7.png
END:VEVENT
END:VCALENDAR